BEGIN:VCALENDAR
VERSION:2.0
PRODID:-//ChamberMaster//Event Calendar 2.0//EN
METHOD:PUBLISH
X-PUBLISHED-TTL:P3D
REFRESH-INTERVAL:P3D
CALSCALE:GREGORIAN
BEGIN:VEVENT
DTSTART;VALUE=DATE:20220703
DTEND;VALUE=DATE:20220704
TRANSP:TRANSPARENT
X-MICROSOFT-CDO-ALLDAYEVENT:TRUE
SUMMARY:Atwater-Donnelly Duo
DESCRIPTION:Award-winning\, internationally acclaimed duo\, Aubrey Atwater & Elwood Donnelly present delightful programs of traditional American & Celtic folk songs and percussive dance.  Elwood & Aubrey blend gorgeous harmonies & play an astonishing array of instruments including guitar\, Appalachian mountain dulcimer\, mandolin\, tin whistle\, harmonica\, banjo\, limberjacks\, and other surprises.
X-ALT-DESC;FMTTYPE=text/html:<span style="font-size:14px\;"><span style="font-family:arial\;">Award-winning\, internationally acclaimed duo\, Aubrey Atwater &amp\; Elwood Donnelly present delightful programs of traditional American &amp\; Celtic folk songs and percussive dance.&nbsp\; Elwood &amp\; Aubrey blend gorgeous harmonies &amp\; play an astonishing array of instruments including guitar\, Appalachian mountain dulcimer\, mandolin\, tin whistle\, harmonica\, banjo\, limberjacks\, and other surprises.&nbsp\;&nbsp\;</span></span>
LOCATION:St. Martha's Episcopal Church 117 Maplewood Street Bethany Beach\, DE 19930
UID:e.2126.23786
SEQUENCE:3
DTSTAMP:20260421T204931Z
URL:http://business.thequietresorts.com/events/details/atwater-donnelly-duo-23786
END:VEVENT

END:VCALENDAR
