BEGIN:VCALENDAR
VERSION:2.0
PRODID:-//ChamberMaster//Event Calendar 2.0//EN
METHOD:PUBLISH
X-PUBLISHED-TTL:P3D
REFRESH-INTERVAL:P3D
CALSCALE:GREGORIAN
BEGIN:VEVENT
DTSTART:20230609T200000Z
DTEND:20230609T220000Z
X-MICROSOFT-CDO-ALLDAYEVENT:FALSE
SUMMARY:Atwater-Donnelly Concert
DESCRIPTION:Award-winning\, internationally acclaimed duo\, Aubrey Atwater & Elwood Donnelly present delightful programs of traditional American & Celtic folk songs and percussive dance.  Elwood & Aubrey blend gorgeous harmonies & play an astonishing array of instruments including guitar\, Appalachian mountain dulcimer\, mandolin\, tin whistle\, harmonica\, banjo\, limberjacks\, and other surprises.
X-ALT-DESC;FMTTYPE=text/html:Award-winning\, internationally acclaimed duo\, Aubrey Atwater &amp\; Elwood Donnelly present delightful programs of traditional American &amp\; Celtic folk songs and percussive dance.&nbsp\; Elwood &amp\; Aubrey blend gorgeous harmonies &amp\; play an astonishing array of instruments including guitar\, Appalachian mountain dulcimer\, mandolin\, tin whistle\, harmonica\, banjo\, limberjacks\, and other surprises.&nbsp\;&nbsp\;
LOCATION:St. Martha's Episcopal Church 117 Maplewood Street Bethany Beach\, DE 19930
UID:e.2126.25906
SEQUENCE:3
DTSTAMP:20260421T004959Z
URL:http://business.thequietresorts.com/events/details/atwater-donnelly-concert-25906
END:VEVENT

END:VCALENDAR
