BEGIN:VCALENDAR
VERSION:2.0
PRODID:-//ChamberMaster//Event Calendar 2.0//EN
METHOD:PUBLISH
X-PUBLISHED-TTL:P3D
REFRESH-INTERVAL:P3D
CALSCALE:GREGORIAN
BEGIN:VEVENT
DTSTART:20230518T220000Z
DTEND:20230519T020000Z
X-MICROSOFT-CDO-ALLDAYEVENT:FALSE
SUMMARY:Atlantic General Hospital's 30th Anniversary Celebration
DESCRIPTION:As spring approaches\, our Atlantic General Hospital Foundation is preparing to present one of its largest fundraising events\, the annual Anniversary Celebration. This is a very special occasion for Atlantic General Hospital as it is a time when we come together to celebrate the hospital that the community helped create thirty years ago. This year's celebration will be held Newport Farms Estate\, 10851 Hayes Landing Road in Berlin. Guests are encouraged to wear cocktail attire for the outdoor event that will take place\, rain or shine\, during the evening of Thursday\, May 18th from 6:00pm to 10:00pm. Features of the gala include an abundance of sophisticated hors d'oeuvres\, an array of stylish cocktails\, and musical entertainment for your listening and dancing pleasure.\n\nTo purchase admissions visit: agh.care/agh30
X-ALT-DESC;FMTTYPE=text/html:<div>\n<div>As spring approaches\, our Atlantic General Hospital Foundation is preparing to present one of its largest fundraising events\, the annual Anniversary Celebration. This is a very special occasion for Atlantic General Hospital as it is a time when we come together to celebrate the hospital that the community helped create thirty years ago. This year&rsquo\;s celebration will be held Newport Farms Estate\, 10851 Hayes Landing Road in Berlin. Guests are encouraged to wear cocktail attire for the outdoor event that will take place\, rain or shine\, during the evening of Thursday\, May 18th from 6:00pm to 10:00pm. Features of the gala include an abundance of sophisticated hors d&#39\;oeuvres\, an array of stylish cocktails\, and musical entertainment for your listening and dancing pleasure.</div>\n\n<div>To purchase admissions visit:&nbsp\;<a class="x1i10hfl xjbqb8w x6umtig x1b1mbwd xaqea5y xav7gou x9f619 x1ypdohk xt0psk2 xe8uvvx xdj266r x11i5rnm xat24cr x1mh8g0r xexx8yu x4uap5 x18d9i69 xkhd6sd x16tdsg8 x1hl2dhg xggy1nq x1a2a7pz xt0b8zv x1fey0fg" href="http://agh.care/agh30?fbclid=IwAR0IPpKRzyP8lKbWK7ogHE8Of86p2ZNgMsDqeP2jWy2b3rJ7EmAopHxdOOQ" rel="nofollow" style="color: var(--blue-link)\; cursor: pointer\; text-decoration-line: none\; margin: 0px\; text-align: inherit\; padding: 0px\; outline: none\; border-width: 0px\; border-style: initial\; border-color: initial\; -webkit-tap-highlight-color: transparent\; box-sizing: border-box\; list-style: none\; touch-action: manipulation\; background-color: transparent\; display: inline\; font-family: inherit\;" tabindex="0" target="_blank">agh.care/agh30</a>&nbsp\;\n\n<div style="text-align:inherit">&nbsp\;</div>\n</div>\n\n<div style="text-align:inherit">&nbsp\;</div>\n</div>\n\n<div>\n<div>&nbsp\;</div>\n</div>\n
LOCATION:Newport Farms Estate\, 10851 Hayes Landing Road in Berlin
UID:e.2126.25206
SEQUENCE:3
DTSTAMP:20260421T023733Z
URL:http://business.thequietresorts.com/events/details/atlantic-general-hospital-s-30th-anniversary-celebration-25206
END:VEVENT

END:VCALENDAR
