BEGIN:VCALENDAR
VERSION:2.0
PRODID:-//ChamberMaster//Event Calendar 2.0//EN
METHOD:PUBLISH
X-PUBLISHED-TTL:P3D
REFRESH-INTERVAL:P3D
CALSCALE:GREGORIAN
BEGIN:VEVENT
DTSTART;VALUE=DATE:20230101
DTEND;VALUE=DATE:20230102
TRANSP:TRANSPARENT
X-MICROSOFT-CDO-ALLDAYEVENT:TRUE
SUMMARY:Atlantic General Hospital's 29th Annual Penguin Swim
DESCRIPTION:Mark your calendars - the 2023 Penguin Swim is quickly approaching!\n\n \n\nPlease join us at the Princess Royale Oceanfront on January 1\, 2023 for the 29th Annual Penguin Swim! Visit www.aghpenguinswim.org for more information and to register.
X-ALT-DESC;FMTTYPE=text/html:<strong><span style="color:black"><span style="font-family:arial\,sans-serif"><span style="font-size:10.5pt">Mark your calendars - the 2023 Penguin Swim is quickly approaching!</span></span></span></strong><br />\n&nbsp\;<br />\n<span style="color:black"><span style="font-family:arial\,sans-serif"><span style="font-size:10.5pt">Please join us at the Princess Royale Oceanfront on January 1\, 2023 for the 29th Annual Penguin Swim! Visit </span></span></span><span style="color:#403F42"><span style="font-family:arial\,sans-serif"><span style="font-size:9.0pt"><a href="https://urldefense.proofpoint.com/v2/url?u=https-3A__r20.rs6.net_tn.jsp-3Ff-3D001cQGykqr-2DKFjrv6I86t3VFJGb8dXtotGCVTCzseOGYZICnRTkiBhKfcg72kWnnCOv-2DLIR9SZpjxacZ5gYnO-5FnyZ91X0DiEhTAQ0elwBPZx-2DZ90-2D14zBjCCLNX7e5y1bobqqIIlmL9tapSPLVRfHe6sg-3D-3D-26c-3DkWY5VEn-2DwOj7pEGJbtTCKtbGeBA0WXjprXaB0-5FR0yl-5Fr4R-5F6bPHfUA-3D-3D-26ch-3DT-2D3ivl4zp0aGa-2D9gVXExyA7H75bVwPJ-5Fidtya1rc60HNUwJsOimj6A-3D-3D&amp\;d=DwMFaQ&amp\;c=F1Qx8KLphTBQxsM5qXkyi3mgFDgyC7u1rxpoQST_KaU&amp\;r=SXb-eKYQgnjKsBQrd1hgB79DanhM1t9wYC0dOlBZzFA&amp\;m=7toaT9vFtbDLPtIOx4z2i1siDd6D5DpfKLzeRka90_3zNKVFNcMOSmP8EDwMQgJK&amp\;s=earxsEEnVzuqUJ9HBb0L3L_2I_Zf0p1rvUoLq_9tuEw&amp\;e=" target="_blank"><strong><span style="color:#284FA1"><span style="font-size:10.5pt">www.aghpenguinswim.org</span></span></strong></a></span></span></span><span style="color:black"><span style="font-family:arial\,sans-serif"><span style="font-size:10.5pt">&nbsp\;for more information and to register.</span></span></span><br />\n&nbsp\;<br />\n&nbsp\;
LOCATION:Princess Royale Oceanfront | 9100 Coastal Highway\, Ocean City\, MD 21842
UID:e.2126.24846
SEQUENCE:3
DTSTAMP:20260423T092205Z
URL:http://business.thequietresorts.com/events/details/atlantic-general-hospital-s-29th-annual-penguin-swim-24846
END:VEVENT

END:VCALENDAR
