BEGIN:VCALENDAR
VERSION:2.0
PRODID:-//ChamberMaster//Event Calendar 2.0//EN
METHOD:PUBLISH
X-PUBLISHED-TTL:P3D
REFRESH-INTERVAL:P3D
CALSCALE:GREGORIAN
BEGIN:VEVENT
DTSTART:20211017T170000Z
DTEND:20211017T190000Z
X-MICROSOFT-CDO-ALLDAYEVENT:FALSE
SUMMARY:Atlantic General Hospital's 1st Annual Puppy Penguin Swim & Yappy Hour
DESCRIPTION:You are welcome to bring your well-behaved leashed dog(s) for a swim at a fundraiser in support of Atlantic General Hospital's Penguin Swim.\n\nThe registration fee is $20 per dog. One dog per person (each dog must be accompanied by a separate dog handler age 18 or older). Additional human family members are welcome to attend at no additional cost.\n\nEach dog will receive a free gift and each dog handler will receive a complimentary drink ticket for a non-alcoholic or alcoholic beverage (21+ for alcohol with valid ID).\n\nYappy Hour Drinks & Food will be available for purchase at the poolside bar.\n\nPlease bring proper cleaning materials as owners are responsible for clean-up of your dog's accidents.\n\nThe event will be held rain or shine with the exception of cancellation due to lightning if applicable. In the event of cancellation\, we thank you for your donation!
X-ALT-DESC;FMTTYPE=text/html:<p style="text-align: justify\;"><span style="font-family:arial\;"><span style="font-size:14px"><strong>You are welcome to bring your well-behaved leashed dog(s) for a swim at a fundraiser in support of <a href="https://www.aghpenguinswim.org/" rel="noopener" target="_blank">Atlantic General Hospital&#39\;s Penguin Swim</a>.</strong></span></span></p>\n\n<p style="text-align: justify\;"><span style="font-family:arial\;"><span style="font-size:14px"><strong>The registration fee is $20 per dog. One dog per person (each dog must be accompanied by a separate dog handler age 18 or older). Additional human family members are welcome to attend at no additional cost.</strong></span></span></p>\n\n<p style="text-align: justify\;"><span style="font-family:arial\;"><span style="font-size:14px"><strong>Each dog will </strong><strong>receive</strong><strong> a free gift and each dog handler will receive a complimentary drink ticket for a non-alcoholic or </strong><strong>alcoholic</strong><strong> beverage (21+ for alcohol with valid ID).</strong></span></span></p>\n\n<p style="text-align: justify\;"><span style="font-family:arial\;"><span style="font-size:14px"><strong>Yappy Hour Drinks &amp\; Food will be available for purchase at the poolside bar.</strong></span></span></p>\n\n<p style="text-align: justify\;"><span style="font-family:arial\;"><span style="font-size:14px"><strong>Please bring proper cleaning materials as owners are responsible for clean-up of your dog&rsquo\;s accidents.</strong></span></span></p>\n\n<p style="text-align: justify\;"><span style="font-family:arial\;"><span style="font-size:14px"><strong>The event will be held rain or shine with the exception of cancellation due to lightning if applicable. In the event of cancellation\, we thank you for your donation!</strong></span></span></p>\n
LOCATION:Residence Inn\, 300 Seabay Lane\, Ocean City\, MD 21842
UID:e.2126.22923
SEQUENCE:3
DTSTAMP:20260424T121231Z
URL:http://business.thequietresorts.com/events/details/atlantic-general-hospital-s-1st-annual-puppy-penguin-swim-and-yappy-hour-22923
END:VEVENT

END:VCALENDAR
