BEGIN:VCALENDAR
VERSION:2.0
PRODID:-//ChamberMaster//Event Calendar 2.0//EN
METHOD:PUBLISH
X-PUBLISHED-TTL:P3D
REFRESH-INTERVAL:P3D
CALSCALE:GREGORIAN
BEGIN:VEVENT
DTSTART:20240602T160000Z
DTEND:20240602T200000Z
X-MICROSOFT-CDO-ALLDAYEVENT:FALSE
SUMMARY:Arts Day In The Pines with Art League of OC
DESCRIPTION:Join us for the 4th annual Arts Day!\n\nArts Day is an annual spring fundraising event for the Art League of Ocean City that takes place at the beautiful Veterans Memorial Park in Ocean Pines on June 2nd from 12pm-4pm. Featuring an Artisan Marketplace\, a Kids' Zone complete with bounce houses and kids art activities\, "Art League's Got Talent" performances\, raffles\, dancing\, food\, drink\, and more! Free and open to the public.
X-ALT-DESC;FMTTYPE=text/html:<p><strong>Join us for the 4th annual Arts Day!</strong></p>\n\n<p>Arts Day is an annual spring fundraising event for the Art League of Ocean City that takes place at the beautiful Veterans Memorial Park in Ocean Pines on June 2nd from 12pm-4pm. Featuring an Artisan Marketplace\, a Kids&rsquo\; Zone complete with bounce houses and kids art activities\, &ldquo\;Art League&rsquo\;s Got Talent&rdquo\; performances\, raffles\, dancing\, food\, drink\, and more! Free and open to the public.</p>\n
LOCATION:Veterans Memorial Park\, Race Track Rd. Ocean Pines\, MD 21811
UID:e.2126.30083
SEQUENCE:3
DTSTAMP:20260420T110107Z
URL:http://business.thequietresorts.com/events/details/arts-day-in-the-pines-with-art-league-of-oc-30083
END:VEVENT

END:VCALENDAR
