BEGIN:VCALENDAR
VERSION:2.0
PRODID:-//ChamberMaster//Event Calendar 2.0//EN
METHOD:PUBLISH
X-PUBLISHED-TTL:P3D
REFRESH-INTERVAL:P3D
CALSCALE:GREGORIAN
BEGIN:VEVENT
DTSTART:20240602T160000Z
DTEND:20240602T200000Z
X-MICROSOFT-CDO-ALLDAYEVENT:FALSE
SUMMARY:Arts Day in the Pines at Art League of Ocean City
DESCRIPTION:Arts Day is an annual spring fundraising event for the Art League of Ocean City that takes place at the beautiful Veterans Memorial Park in Ocean Pines on June 2nd from 12pm-4pm. Featuring an Artisan Marketplace\, a Kids' Zone complete with bounce houses and kids art activities\, "Art League's Got Talent" performances\, raffles\, dancing\, food\, drink\, and more! Free and open to the public.\n\n---------------------\n\nVendor Application:\n\nApply for our Artisan Marketplace today!\n\nApplication Deadline: Mon. April 22nd\, 4pm\n\nArtisans notified by: Thursday\, April 25\, 2024\n\nApplication Fee: $25\n\nONCE ACCEPTED: Artisan Vendor Fee due by: Friday\, May 6\, 2024 ($40 members\, $50 non-members)\n\nClick here to apply: https://form.jotform.com/240784970716163\n\n-------------------\n\nVolunteers Needed!\n\nEmail Aubrey Sizemore at aubrey@artleagueofoceancity.org for more information. Volunteers must be 14 or older.\n\nCo-hosted by the Ocean Pines Recreation and Parks
X-ALT-DESC;FMTTYPE=text/html:<p>Arts Day is an annual spring fundraising event for the Art League of Ocean City that takes place at the beautiful Veterans Memorial Park in Ocean Pines on June 2nd from 12pm-4pm. Featuring an Artisan Marketplace\, a Kids&rsquo\; Zone complete with bounce houses and kids art activities\, &ldquo\;Art League&rsquo\;s Got Talent&rdquo\; performances\, raffles\, dancing\, food\, drink\, and more! Free and open to the public.</p>\n\n<p>---------------------<br />\nVendor Application:</p>\n\n<p>Apply for our Artisan Marketplace today!<br />\nApplication Deadline: Mon. April 22nd\, 4pm<br />\nArtisans notified by: Thursday\, April 25\, 2024<br />\nApplication Fee: $25<br />\nONCE ACCEPTED: Artisan Vendor Fee due by: Friday\, May 6\, 2024 ($40 members\, $50 non-members)<br />\nClick here to apply:&nbsp\;<a href="https://l.facebook.com/l.php?u=https%3A%2F%2Fform.jotform.com%2F240784970716163%3Ffbclid%3DIwAR1a8tr3dynPO2qkeFcnne2O3VG0zxVhCqV7ZEQvSdUnNpX7NsO_OQKPuBA&amp\;h=AT3jYk1vsxyJ4YZET2Jl6YBsRPdOHUv-xIhEo16OxGT_Vqv87-l0bTnsnwNvr8fmLv7FFW5UmQUDI4HQT59SI1E8nvd5BU1-sWnGdkkhr1b6MDgWuYvaJ_QutblWs84UPTrREKYJhgHUEqu6N9zQ&amp\;__tn__=q&amp\;c[0]=AT1MrPBlgWKu31d8llnmKSCg7zJIDQeBcrE4YQ0A3q0b4_n-Z-t5jM2fy17y4BWHIWVYi1eMYfqVOeOWdubxqyLDwy7F3bh4dSrQuSajeBf-SBzhXgGwKeyYDnNiMX_PFzlsCtUzx2H9QLqYtqg38dQpr4Mk" rel="noopener" style="color: rgb(0\, 148\, 215)\; box-sizing: border-box\; background: transparent\; text-decoration-line: none\;" target="_blank">https://form.jotform.com/240784970716163</a></p>\n\n<p>-------------------<br />\nVolunteers Needed!<br />\nEmail Aubrey Sizemore at aubrey@artleagueofoceancity.org for more information. Volunteers must be 14 or older.</p>\n\n<p>Co-hosted by the Ocean Pines Recreation and Parks</p>\n
LOCATION:Art League of Ocean City 502 94th Street Ocean City\, MD 21842
UID:e.2126.28626
SEQUENCE:3
DTSTAMP:20260420T110312Z
URL:http://business.thequietresorts.com/events/details/arts-day-in-the-pines-at-art-league-of-ocean-city-28626
END:VEVENT

END:VCALENDAR
