BEGIN:VCALENDAR
VERSION:2.0
PRODID:-//ChamberMaster//Event Calendar 2.0//EN
METHOD:PUBLISH
X-PUBLISHED-TTL:P3D
REFRESH-INTERVAL:P3D
CALSCALE:GREGORIAN
BEGIN:VEVENT
DTSTART:20230709T150000Z
DTEND:20230709T210000Z
X-MICROSOFT-CDO-ALLDAYEVENT:FALSE
SUMMARY:Arts Day in the Pines
DESCRIPTION:Location: Veterans Memorial Park\, Racetrack Rd\, Ocean Pines\, MD 21811\n\nDate: Rescheduled Sunday\, July 9th from 11am-5pm\n\n \n\nWe're bringing the fun with Arts Day in the Pines at the beautiful Veterans Memorial Park in Ocean Pines! Featuring Kids Zone complete with bounce houses\, axe throwing\, basketball\, art activities\, crafts\, face painting and lots of bubbles.\n\n \n\nDon't miss out on our art workshops\, live music\, raffles\, over 60 artisans\, artist demos\, art cars\, caricatures\, food\, beer & wine and so much more!\n\n \n\nThis fundraising event is so important this year because we are celebrating the Art League of Ocean City's 60th year of serving our community through art. This event will help us continue to provide free after school programs to kids in our community\, free family art day\, support our art program for those with addiction and in recovery\, and keep our doors open for monthly gallery exhibits\, classes and so much more!\n\n \n\nCo-hosted by the Ocean Pines Recreation and Parks
X-ALT-DESC;FMTTYPE=text/html:<div><strong>Location:</strong>&nbsp\;Veterans Memorial Park\,&nbsp\;<em>Racetrack Rd\, Ocean Pines\, MD 21811</em></div>\n\n<div><strong>Date:</strong>&nbsp\;Rescheduled Sunday\, July 9th from 11am-5pm</div>\n\n<div>&nbsp\;</div>\n\n<div>We&rsquo\;re bringing the fun with Arts Day in the Pines at the beautiful Veterans Memorial Park in Ocean Pines! Featuring Kids Zone complete with bounce houses\, axe throwing\, basketball\, art activities\, crafts\, face painting and lots of bubbles.<br />\n&nbsp\;</div>\n\n<div>Don&rsquo\;t miss out on our art workshops\, live music\, raffles\, over 60 artisans\, artist demos\, art cars\, caricatures\, food\, beer &amp\; wine and so much more!<br />\n&nbsp\;</div>\n\n<div>This fundraising event is so important this year because we are celebrating the Art League of Ocean City&rsquo\;s 60th year of serving our community through art. This event will help us continue to provide free after school programs to kids in our community\, free family art day\, support our art program for those with addiction and in recovery\, and keep our doors open for monthly gallery exhibits\, classes and so much more!</div>\n\n<div>&nbsp\;</div>\n\n<div>Co-hosted by the Ocean Pines Recreation and Parks</div>\n
LOCATION:Veterans Memorial Park\, Racetrack Rd\, Ocean Pines\, MD 21811
UID:e.2126.25910
SEQUENCE:3
DTSTAMP:20260420T230438Z
URL:http://business.thequietresorts.com/events/details/arts-day-in-the-pines-25910
END:VEVENT

END:VCALENDAR
