BEGIN:VCALENDAR
VERSION:2.0
PRODID:-//ChamberMaster//Event Calendar 2.0//EN
METHOD:PUBLISH
X-PUBLISHED-TTL:P3D
REFRESH-INTERVAL:P3D
CALSCALE:GREGORIAN
BEGIN:VEVENT
DTSTART:20231104T130000Z
DTEND:20231104T190000Z
X-MICROSOFT-CDO-ALLDAYEVENT:FALSE
SUMMARY:Arts & Crafts Show & Bake Sale with the Auxiliary of the Selbyville Volunteer Fire Co.
DESCRIPTION:Join the Auxiliary of the Selbyville Volunteer Fire Co. for an Arts & Crafts Show and Bake Sale on Saturday\, November 4th from 9am - 3pm. \n\n\n\nWe'll have over 20 arts and crafts vendors and baked goods. In addition to the bake sale\, food\, beverages and snacks will also be prepared by the Auxiliary.
X-ALT-DESC;FMTTYPE=text/html:Join the Auxiliary of the Selbyville Volunteer Fire Co. for an Arts &amp\; Crafts Show and Bake Sale on Saturday\, November 4th from 9am - 3pm.&nbsp\;<br />\n<br />\nWe&#39\;ll have over 20 arts and crafts vendors and baked goods. In addition to the bake sale\, food\, beverages and snacks will also be prepared by the Auxiliary.
LOCATION:Selbyville Volunteer Fire Co. 30 N. Main St. Selbyville\, DE 19975
UID:e.2126.27018
SEQUENCE:3
DTSTAMP:20260420T170442Z
URL:http://business.thequietresorts.com/events/details/arts-crafts-show-bake-sale-with-the-auxiliary-of-the-selbyville-volunteer-fire-co-27018
END:VEVENT

END:VCALENDAR
