BEGIN:VCALENDAR
VERSION:2.0
PRODID:-//ChamberMaster//Event Calendar 2.0//EN
METHOD:PUBLISH
X-PUBLISHED-TTL:P3D
REFRESH-INTERVAL:P3D
CALSCALE:GREGORIAN
BEGIN:VEVENT
DTSTART;VALUE=DATE:20210811
DTEND;VALUE=DATE:20210816
TRANSP:TRANSPARENT
X-MICROSOFT-CDO-ALLDAYEVENT:TRUE
SUMMARY:Artists Paint OC: A Plein Air Event
DESCRIPTION:PLEIN AIR EVENT ~ AUGUST 11   15\, 2021\n\nWatch artists paint local landscapes right before your eyes and take home a piece of original artwork fresh off the easel!\n\nEVENT SCHEDULE\n\nWednesday   Saturday\, August 11   14\n\nArtists Paint Local Scenes\n\nWatch 50 artists paint outdoors in Ocean City and Assateague areas.\n\nSaturday\, August 14\, 5-8pm\n\nFree admission! Wet Paint Sale & Awards Ceremony\n\nOcean City Center for the Arts\, 94th St.\n\nJoin us for your first opportunity to view and collect the freshly painted scenes of OCMD. Meet the plein air artists and take home an original painting. Enjoy hors d'oeuvres and live music.\n\n1st Place   $2\,500\n\n2nd Place   $1\,000\n\n3rd Place   $500\n\n2 Honorable Mentions   $50 each\n\nBest Use of Light   $100\n\nBest Maritime   $100\n\nBest Hospitality   $100\n\nBest Nocturnal   $100\n\nAwards made possible by the Art League of Ocean City\, Peter Glenville Foundation\, Maryland State Arts Council\, Worcester County Arts Council\, and private donations.\n\nSunday\, August 15\n\nQuick Paint on the Boardwalk\, 9-11am\n\nOff-the-Easel Art Sale\, Arts Center\, 1-3pm\n\nWatch the artists paint against the clock on the Boardwalk (S. Division St). Then head to 94th St. for judging and sale. Prizes sponsored by Ocean City Development Corp. $500 in total prizes.\n\nAugust 15   September 25\n\nPlein Air Juried Show   Artwork selected will be featured in the Galleria of the OC Center for the Arts. Exhibit juror: Alison Leigh Menke. Artwork will be photographed and also presented as an online exhibition at www.artleagueofoceancity.org\, as well as shared on social media.\n\nSaturday   Sunday\, August 21   22\n\nArtX Festival   View and collect artwork created during the Artists Paint OC Plein Air event at the Art League's tent. Located at Northside Park on 125th St.\, ArtX will showcase fine art vendors around the lagoon\, art activities\, live music\, and more. Saturday 12-8pm\, Sunday 9-3pm.\n\nArtX Quick Paint Competition   Watch artists paint against the clock around the picturesque Northside Park Sunday 10am-12pm\, followed by judging and off-the-easel sale 1-3pm. Prizes sponsored by the Town of Ocean City. $500 in total prizes.\n\nARTIST REGISTRATION\n\nThe 2021 Artists Paint OC Plein Air event is currently full. To be added to the wait list\, please call 410-524-9433 or click here.\n\nTo register for the 2-Hour Quick Paint on the Boardwalk\, Aug 15: click here.\n\nTo register for the Quick Paint at ArtX\, Aug 22: click here.\n\n \n\nCONTACT US\n\nFor more information about ARTISTS PAINT OC\, please contact the Art League of Ocean City at 410-524-9433 or email Gallery Director Katie Brown at katie@artleagueofoceancity.org.
X-ALT-DESC;FMTTYPE=text/html:<h2 style="text-align:center">PLEIN AIR EVENT ~ AUGUST 11 &ndash\; 15\, 2021</h2>\n\n<p style="text-align:center">Watch artists paint local landscapes right before your eyes and take home a piece of original artwork fresh off the easel!</p>\n\n<h3 style="text-align:center">EVENT SCHEDULE</h3>\n\n<h4>Wednesday &ndash\; Saturday\, August 11 &ndash\; 14</h4>\n\n<p><strong>Artists Paint Local Scenes</strong><br />\nWatch 50 artists paint outdoors in Ocean City and Assateague areas.</p>\n\n<h4>Saturday\, August 14\, 5-8pm</h4>\n\n<p><strong>Free admission! Wet Paint Sale &amp\; Awards Ceremony</strong><br />\n<strong>Ocean City Center for the Arts\, 94th St.</strong><br />\nJoin us for your first opportunity to view and collect the freshly painted scenes of OCMD. Meet the plein air artists and take home an original painting. Enjoy hors d&rsquo\;oeuvres and live music.</p>\n\n<p>1st Place &ndash\; $2\,500<br />\n2nd Place &ndash\; $1\,000<br />\n3rd Place &ndash\; $500<br />\n2 Honorable Mentions &ndash\; $50 each<br />\nBest Use of Light &ndash\; $100<br />\nBest Maritime &ndash\; $100<br />\nBest Hospitality &ndash\; $100<br />\nBest Nocturnal &ndash\; $100</p>\n\n<p>Awards made possible by the Art League of Ocean City\, Peter Glenville Foundation\, Maryland State Arts Council\, Worcester County Arts Council\, and private donations.</p>\n\n<h4>Sunday\, August 15</h4>\n\n<p><strong>Quick Paint on the Boardwalk\, 9-11am</strong><br />\n<strong>Off-the-Easel Art Sale\, Arts Center\, 1-3pm</strong><br />\nWatch the artists paint against the clock on the Boardwalk (S. Division St). Then head to 94th St. for judging and sale. Prizes sponsored by Ocean City Development Corp. $500 in total prizes.</p>\n\n<h4>August 15 &ndash\; September 25</h4>\n\n<p><strong>Plein Air Juried Show &ndash\;</strong>&nbsp\;Artwork selected will be featured in the Galleria of the OC Center for the Arts. Exhibit juror: Alison Leigh Menke. Artwork will be photographed and also presented as an online exhibition at&nbsp\;<a href="http://www.artleagueofoceancity.org/" style="color: rgb(246\, 142\, 86)\; box-sizing: border-box\; outline: none 0px\; text-decoration-line: none\; transition: all 0.2s ease 0s\; background: transparent\; -webkit-tap-highlight-color: rgba(0\, 0\, 0\, 0.3)\;">www.artleagueofoceancity.org</a>\, as well as shared on social media.</p>\n\n<h4>Saturday &ndash\; Sunday\, August 21 &ndash\; 22</h4>\n\n<p><strong>ArtX Festival&nbsp\;</strong>&ndash\; View and collect artwork created during the Artists Paint OC Plein Air event at the Art League&rsquo\;s tent.&nbsp\;Located at Northside Park on 125th St.\, ArtX will showcase fine art vendors around the lagoon\, art activities\, live music\, and more. Saturday 12-8pm\, Sunday 9-3pm.</p>\n\n<p><strong>ArtX Quick Paint Competition&nbsp\;</strong>&ndash\;&nbsp\;Watch artists paint against the clock around the picturesque Northside Park Sunday 10am-12pm\, followed by judging and off-the-easel sale 1-3pm. Prizes sponsored by the Town of Ocean City. $500 in total prizes.</p>\n\n<h3 style="text-align:center">ARTIST REGISTRATION</h3>\n\n<p>The 2021 Artists Paint OC Plein Air event is currently full. To be added to the wait list\, please call 410-524-9433 or&nbsp\;<a href="https://reg131.imperisoft.com/ArtLeagueOfOceanCity/ProgramDetail/3532383332/Registration.aspx" rel="noopener noreferrer" style="color: rgb(246\, 142\, 86)\; box-sizing: border-box\; outline: none 0px\; text-decoration-line: none\; transition: all 0.2s ease 0s\; background: transparent\; -webkit-tap-highlight-color: rgba(0\, 0\, 0\, 0.3)\;" target="_blank">click here</a>.</p>\n\n<p>To register for the 2-Hour Quick Paint on the Boardwalk\, Aug 15:&nbsp\;<a href="https://reg131.imperisoft.com/ArtLeagueOfOceanCity/ProgramDetail/3533343939/Registration.aspx" rel="noopener" style="color: rgb(246\, 142\, 86)\; box-sizing: border-box\; outline: none 0px\; text-decoration-line: none\; transition: all 0.2s ease 0s\; background: transparent\; -webkit-tap-highlight-color: rgba(0\, 0\, 0\, 0.3)\;" target="_blank">click here</a>.</p>\n\n<p>To register for the Quick Paint at ArtX\, Aug 22:&nbsp\;<a href="https://reg131.imperisoft.com/ArtLeagueOfOceanCity/ProgramDetail/3535353835/Registration.aspx" rel="noopener" style="color: rgb(246\, 142\, 86)\; box-sizing: border-box\; outline: none 0px\; text-decoration-line: none\; transition: all 0.2s ease 0s\; background: transparent\; -webkit-tap-highlight-color: rgba(0\, 0\, 0\, 0.3)\;" target="_blank">click here</a>.</p>\n\n<h3>&nbsp\;</h3>\n\n<h3 style="text-align:center">CONTACT US</h3>\n\n<p>For more information about ARTISTS PAINT OC\, please contact the Art League of Ocean City at 410-524-9433 or email Gallery Director Katie Brown at&nbsp\;<a href="mailto:katie@artleagueofoceancity.org" style="color: rgb(246\, 142\, 86)\; box-sizing: border-box\; outline: none 0px\; text-decoration-line: none\; transition: all 0.2s ease 0s\; background: transparent\; -webkit-tap-highlight-color: rgba(0\, 0\, 0\, 0.3)\;">katie@artleagueofoceancity.org</a>.</p>\n
LOCATION:Art League of Ocean City
UID:e.2126.22665
SEQUENCE:3
DTSTAMP:20260424T155444Z
URL:http://business.thequietresorts.com/events/details/artists-paint-oc-a-plein-air-event-22665
END:VEVENT

END:VCALENDAR
