BEGIN:VCALENDAR
VERSION:2.0
PRODID:-//ChamberMaster//Event Calendar 2.0//EN
METHOD:PUBLISH
X-PUBLISHED-TTL:P3D
REFRESH-INTERVAL:P3D
CALSCALE:GREGORIAN
BEGIN:VEVENT
DTSTART;VALUE=DATE:20240612
DTEND;VALUE=DATE:20240613
TRANSP:TRANSPARENT
X-MICROSOFT-CDO-ALLDAYEVENT:TRUE
SUMMARY:Artesian Water Public Hearing
DESCRIPTION:On April 28\, 2023\, Artesian Water Company\, Inc. filed an application with the Delaware Public Service Commission (PSC) to increase its Delaware water rates. The PSC will hold a public hearing regarding Artesian's application on June 12\, 2024. In an effort to proactively communicate with customers\, please check out the website at ratecase.artesianwater.com for details.
X-ALT-DESC;FMTTYPE=text/html:<span style="color:#555555\;"><span style="font-family:helvetica\,sans-serif\;"><span style="font-size:10.5pt\;">On April 28\, 2023\, Artesian Water Company\, Inc. filed an application with the Delaware Public Service Commission (PSC) to increase its Delaware water rates. The PSC will hold a public hearing regarding Artesian&#39\;s application on June 12\, 2024. In an effort to proactively communicate with customers\, please check out the website at ratecase.artesianwater.com for details.</span></span></span>
LOCATION:PSC Hearing Room 861 Silver Lake Boulevard Cannon Building Suite 100 Dover\, DE 19904
UID:e.2126.30099
SEQUENCE:3
DTSTAMP:20260420T090622Z
URL:http://business.thequietresorts.com/events/details/artesian-water-public-hearing-30099
END:VEVENT

END:VCALENDAR
