BEGIN:VCALENDAR
VERSION:2.0
PRODID:-//ChamberMaster//Event Calendar 2.0//EN
METHOD:PUBLISH
X-PUBLISHED-TTL:P3D
REFRESH-INTERVAL:P3D
CALSCALE:GREGORIAN
BEGIN:VEVENT
DTSTART:20231111T130000Z
DTEND:20231111T170000Z
X-MICROSOFT-CDO-ALLDAYEVENT:FALSE
SUMMARY:Art Yard Sale at Ocean City Center for the Arts
DESCRIPTION:Artists clean out their studios and you win! Great bargains on art supplies\, materials\, and excess art at deeply discounted prices. Held indoors and outdoors (weather-permitting). In the case of rain\, all vendors will be moved indoors.\n\nInterested in a table? Vendor space is currently full\, but please contact Kacie Neeb at kacie@artleagueofoceancity.org to be added to the waitlist.
X-ALT-DESC;FMTTYPE=text/html:<p>Artists clean out their studios and you win! Great bargains on art supplies\, materials\, and excess art at deeply discounted prices. Held indoors and outdoors (weather-permitting). In the case of rain\, all vendors will be moved indoors.</p>\n\n<p>Interested in a table? Vendor space is currently full\, but please contact Kacie Neeb at kacie@artleagueofoceancity.org to be added to the waitlist.</p>\n
LOCATION:Art League of Ocean City 502 94th Street Ocean City\, MD 21842
UID:e.2126.27047
SEQUENCE:3
DTSTAMP:20260420T170519Z
URL:http://business.thequietresorts.com/events/details/art-yard-sale-at-ocean-city-center-for-the-arts-27047
END:VEVENT

END:VCALENDAR
