BEGIN:VCALENDAR
VERSION:2.0
PRODID:-//ChamberMaster//Event Calendar 2.0//EN
METHOD:PUBLISH
X-PUBLISHED-TTL:P3D
REFRESH-INTERVAL:P3D
CALSCALE:GREGORIAN
BEGIN:VEVENT
DTSTART:20240615T230000Z
DTEND:20240616T003000Z
X-MICROSOFT-CDO-ALLDAYEVENT:FALSE
SUMMARY:Art of the American Song: Sinatra\, Cole\, Bennett\, Darin & More at Dickens Parlour Theatre
DESCRIPTION:Sinatra\, Bennett\, Darrin\, Nat King Cole and others are honored in this incredible performance featuring Bryan Clark and Percussionist\, Alan Dale. The Art of the American Song is a timeless reminder of the "great days and legendary nights" of the greatest entertainers in the world.
X-ALT-DESC;FMTTYPE=text/html:<p><strong>Sinatra\, Bennett\, Darrin\, Nat King&nbsp\;Cole and others are honored in this incredible performance featuring Bryan Clark and Percussionist\, Alan Dale. The Art of the American Song is a timeless reminder of the &ldquo\;great days and legendary nights&rdquo\; of the greatest entertainers in the world.</strong></p>\n\n<p>&nbsp\;</p>\n
LOCATION:Dickens Parlour Theatre 31810 Good Earth Lane Ocean View\, DE 19970
UID:e.2126.29937
SEQUENCE:3
DTSTAMP:20260420T110219Z
URL:http://business.thequietresorts.com/events/details/art-of-the-american-song-sinatra-cole-bennett-darin-more-at-dickens-parlour-theatre-29937
END:VEVENT

END:VCALENDAR
