BEGIN:VCALENDAR
VERSION:2.0
PRODID:-//ChamberMaster//Event Calendar 2.0//EN
METHOD:PUBLISH
X-PUBLISHED-TTL:P3D
REFRESH-INTERVAL:P3D
CALSCALE:GREGORIAN
BEGIN:VEVENT
DTSTART:20240629T220000Z
DTEND:20240629T233000Z
X-MICROSOFT-CDO-ALLDAYEVENT:FALSE
SUMMARY:Art of the American Song: Sinatra\, Cole\, Bennett\, Darin & More
DESCRIPTION:The Dickens Parlour Theatre will present Art of the American Song honoring the music of Frank Sinatra\, Nat King Cole\, Tony Bennett\, Bobby Darin\, and More. The concert will feature vocalist Bryan Clark accompanied by percussionist Alan Dale. \n\nFor anyone who never had the opportunity to see their favorite performers during an era of genius in American popular music\, Clark is a timeless reminder of the "great days and legendary nights" of the greatest entertainers in the world. \n\nHonoring The Music That Is America's Gift To The World\n\nCole Porter | Johnny Mercer | Duke Ellington | Count Basie | Sinatra | Nat King Cole | George & Ira Gershwin | Tony Bennett | Bobby Darin
X-ALT-DESC;FMTTYPE=text/html:<p><span style="color:rgb(0\, 0\, 0)\; font-size:1.5em">The Dickens Parlour Theatre will present <em>Art of the American Song</em> honoring the music of Frank Sinatra\, Nat King Cole\, Tony Bennett\, Bobby Darin\, and More. The concert will feature vocalist Bryan Clark accompanied by percussionist Alan Dale.&nbsp\;</span></p>\n\n<p><span style="color:rgb(0\, 0\, 0)\; font-size:1.5em">For anyone who never had the opportunity to see their favorite performers during an era of genius in American popular music\, Clark is a timeless reminder of the &ldquo\;great days and legendary nights&rdquo\; of the greatest entertainers in the world.&nbsp\;</span></p>\n\n<p><span style="color:rgb(36\, 36\, 36)\; font-size:1.5em">Honoring The Music That Is America&rsquo\;s Gift To The World</span></p>\n\n<p><strong><em>Cole Porter&nbsp\;|&nbsp\;Johnny Mercer&nbsp\;|&nbsp\;Duke Ellington&nbsp\;|&nbsp\;Count Basie&nbsp\;|&nbsp\;Sinatra&nbsp\;|&nbsp\;Nat King Cole&nbsp\;|&nbsp\;George &amp\; Ira Gershwin&nbsp\;|&nbsp\;Tony Bennett | Bobby Darin</em></strong></p>\n
LOCATION:Dickens Parlour Theatre 31810 Good Earth Lane Ocean View\, DE 19970
UID:e.2126.30129
SEQUENCE:3
DTSTAMP:20260420T091603Z
URL:http://business.thequietresorts.com/events/details/art-of-the-american-song-sinatra-cole-bennett-darin-more-30129
END:VEVENT

END:VCALENDAR
