BEGIN:VCALENDAR
VERSION:2.0
PRODID:-//ChamberMaster//Event Calendar 2.0//EN
METHOD:PUBLISH
X-PUBLISHED-TTL:P3D
REFRESH-INTERVAL:P3D
CALSCALE:GREGORIAN
BEGIN:VEVENT
DTSTART;VALUE=DATE:20221104
DTEND;VALUE=DATE:20221201
TRANSP:TRANSPARENT
X-MICROSOFT-CDO-ALLDAYEVENT:TRUE
SUMMARY:Art League of Ocean City November Exhibits
DESCRIPTION:Join Art League of Ocean City\n\nCenter for the Arts\n\nto kick off November Exhibits with an Opening Reception\n\nNovember 4 from 5-7pm\, hors d'oeuvres and refreshments served\n\n\n\nNovember Exhibits to include:\n\n                                Aric Snee  "I Can Hear the Ocean"\n\nJennifer Carter\n\nLuliia Nahirna\n\nMarge Bradach
X-ALT-DESC;FMTTYPE=text/html:<div style="text-align: center\;"><span style="font-size:14px\;"><span style="font-family:arial\;">&nbsp\;Join Art League of Ocean City<br />\nCenter for the Arts<br />\nto kick off <u>November Exhibits</u> with an Opening Reception<br />\n<strong>November 4 from 5-7pm\, hors d&#39\;oeuvres and refreshments served</strong><br />\n<br />\n<u><em><strong>November Exhibits to include:</strong></em></u><br />\n&nbsp\; &nbsp\; &nbsp\; &nbsp\; &nbsp\; &nbsp\; &nbsp\; &nbsp\; &nbsp\; &nbsp\; &nbsp\; &nbsp\; &nbsp\; &nbsp\; &nbsp\; &nbsp\; Aric Snee&nbsp\; &quot\;I Can Hear the Ocean&quot\;<br />\nJennifer Carter<br />\nLuliia Nahirna<br />\nMarge Bradach</span></span></div>\n
LOCATION:502 94th St. Ocean City\, MD 21842
UID:e.2126.24843
SEQUENCE:3
DTSTAMP:20260421T142547Z
URL:http://business.thequietresorts.com/events/details/art-league-of-ocean-city-november-exhibits-24843
END:VEVENT

END:VCALENDAR
