BEGIN:VCALENDAR
VERSION:2.0
PRODID:-//ChamberMaster//Event Calendar 2.0//EN
METHOD:PUBLISH
X-PUBLISHED-TTL:P3D
REFRESH-INTERVAL:P3D
CALSCALE:GREGORIAN
BEGIN:VEVENT
DTSTART:20220705T233000Z
DTEND:20220706T010000Z
X-MICROSOFT-CDO-ALLDAYEVENT:FALSE
SUMMARY:Army Jazz Ambassadors
DESCRIPTION:The Jazz Ambassadors  America's Big Band - is the official touring big band of the US Army. This 19-member ensemble\, formed in 1969\, has received great acclaim both at home and abroad performing America's original art form\, jazz. armyfieldband.com
X-ALT-DESC;FMTTYPE=text/html:<span dir="ltr" style="font-family:sans-serif\; font-size:13.4px">The Jazz</span><span dir="ltr" style="font-family:sans-serif\; font-size:13.4px"> Ambassadors</span><span dir="ltr" style="font-family:sans-serif\; font-size:13.4px">&mdash\;</span><span dir="ltr" style="font-family:sans-serif\; font-size:13.4px"> America&#39\;s Big Band</span><span dir="ltr" style="font-family:sans-serif\; font-size:13.4px"> -</span><span dir="ltr" style="font-family:sans-serif\; font-size:13.4px"> </span><span dir="ltr" style="font-family:sans-serif\; font-size:13.4px">is the official touring big band of the US</span><span dir="ltr" style="font-family:sans-serif\; font-size:13.4px"> Army. This 19</span><span dir="ltr" style="font-family:sans-serif\; font-size:13.4px">-</span><span dir="ltr" style="font-family:sans-serif\; font-size:13.4px">member ensemble\, formed</span><span dir="ltr" style="font-family:sans-serif\; font-size:13.4px"> in 1969\, has received great acclaim both at</span><span dir="ltr" style="font-family:sans-serif\; font-size:13.4px"> home and abroad performing America&#39\;s</span><span dir="ltr" style="font-family:sans-serif\; font-size:13.4px"> original art form\, jazz.</span><span dir="ltr" style="font-family:sans-serif\; font-size:13.4px"> a</span><span dir="ltr" style="font-family:sans-serif\; font-size:13.4px">r</span><span dir="ltr" style="font-family:sans-serif\; font-size:13.4px">myfieldband.com</span>
LOCATION:Bethany Beach Bandstand Garfield Parkway & Boardwalk\, Bethany Beach
UID:e.2126.23760
SEQUENCE:3
DTSTAMP:20260421T204609Z
URL:http://business.thequietresorts.com/events/details/army-jazz-ambassadors-23760
END:VEVENT

END:VCALENDAR
