BEGIN:VCALENDAR
VERSION:2.0
PRODID:-//ChamberMaster//Event Calendar 2.0//EN
METHOD:PUBLISH
X-PUBLISHED-TTL:P3D
REFRESH-INTERVAL:P3D
CALSCALE:GREGORIAN
BEGIN:VEVENT
DTSTART:20240408T123000Z
DTEND:20240408T160000Z
X-MICROSOFT-CDO-ALLDAYEVENT:FALSE
SUMMARY:April Membership Meeting 2024 - CPR Certification Course
DESCRIPTION:Registration closes end of day on Monday\, April 1st!\n\n\n\nJoin the Bethany-Fenwick Area Chamber of Commerce on Monday\, April 8th\, at Ocean View Police Department for a CPR certification course!  This course is a 2-year Red Cross certification and costs $35 per person.  This event is open to the public and will be held from 8:30 AM - 12:00 PM.
X-ALT-DESC;FMTTYPE=text/html:<span style="font-size:14px\;"><span style="background:white\;"><span style="color:#FF0000\;"><span style="font-family:arial\,sans-serif\;"><strong>Registration closes end of day on Monday\, April 1st!</strong></span></span><br />\n<br />\n<span style="color:#25201A\;"><span style="font-family:arial\,sans-serif\;">Join the Bethany-Fenwick Area Chamber of Commerce on Monday\, April 8th\, at Ocean View Police Department for a CPR certification course!&nbsp\; This course is a 2-year Red Cross certification and costs $35 per person.&nbsp\; This event is open to the public and will be held from 8:30 AM - 12:00 PM.</span></span></span></span>
LOCATION:Ocean View Police Department 201 Central Ave Ocean View DE\, 19970
UID:e.2126.28569
SEQUENCE:3
DTSTAMP:20260420T073124Z
URL:http://business.thequietresorts.com/events/details/april-membership-meeting-2024-cpr-certification-course-28569
END:VEVENT

END:VCALENDAR
