BEGIN:VCALENDAR
VERSION:2.0
PRODID:-//ChamberMaster//Event Calendar 2.0//EN
METHOD:PUBLISH
X-PUBLISHED-TTL:P3D
REFRESH-INTERVAL:P3D
CALSCALE:GREGORIAN
BEGIN:VEVENT
DTSTART:20230406T123000Z
DTEND:20230406T160000Z
X-MICROSOFT-CDO-ALLDAYEVENT:FALSE
SUMMARY:April Membership Meeting 2023 - CPR Certification Course
DESCRIPTION:Get your Red Cross 2-year CPR Certification with the Chamber team!  Each person or organization is responsible for the cost of the class ($35).  This event is open to the public.
X-ALT-DESC;FMTTYPE=text/html:<span style="background:white\;"><span style="color:#25201A\;"><span style="font-family:arial\,sans-serif\;"><span style="font-size:14.0pt\;">Get your Red Cross 2-year CPR Certification with the Chamber team!&nbsp\;&nbsp\;</span></span></span></span><span style="border:none windowtext 1.0pt\;padding:0in\;background:white\;"><span style="color:black\;"><span style="font-family:arial\,sans-serif\;"><span style="font-size:14.0pt\;"><span style="border:none windowtext 1.0pt\;padding:0in\;"><span style="box-sizing:content-box\;inset:auto\;content:normal\;empty-cells:show\;font-variant-ligatures:normal\;font-variant-caps:normal\;font-variant-numeric:inherit\;font-variant-east-asian:inherit\;font-stretch:inherit\;max-height:none\;max-width:none\;min-height:initial\;min-width:initial\;opacity:1\;outline-offset:0px\;resize:none\;text-overflow:clip\;word-break:inherit\;overflow-wrap:inherit\;border-width:initial\;border-image:none 100% 1 0 / 1 / 0 stretch\;border-radius:0px\;box-shadow:none\;orphans:2\;widows:2\;-webkit-text-stroke-width:0px\;float:none\;overflow:visible\;visibility:inherit\;word-spacing:0px\;z-index:auto\;">Each person or organization is responsible for the cost of the class ($35).&nbsp\; This event is open to the public.</span></span></span></span></span></span>
LOCATION:Ocean View Police Department 201 Central Ave Ocean View DE\, 19970
UID:e.2126.25293
SEQUENCE:3
DTSTAMP:20260421T040340Z
URL:http://business.thequietresorts.com/events/details/april-membership-meeting-2023-cpr-certification-course-25293
END:VEVENT

END:VCALENDAR
