BEGIN:VCALENDAR
VERSION:2.0
PRODID:-//ChamberMaster//Event Calendar 2.0//EN
METHOD:PUBLISH
X-PUBLISHED-TTL:P3D
REFRESH-INTERVAL:P3D
CALSCALE:GREGORIAN
BEGIN:VEVENT
DTSTART:20230417T190000Z
DTEND:20230417T210000Z
X-MICROSOFT-CDO-ALLDAYEVENT:FALSE
SUMMARY:Antisemitism: Time to Stop the Hate
DESCRIPTION:Join St. Martha's Episcopal Church to hear Regional Director of the ADL\, Andrew Goretsky on Monday\, April 17 at 3pm in the parrish hall. (Reception to follow)
X-ALT-DESC;FMTTYPE=text/html:Join St. Martha&#39\;s Episcopal Church to hear Regional Director of the ADL\, Andrew Goretsky on Monday\, April 17 at 3pm in the parrish hall. (Reception to follow)
LOCATION:St. Martha's Episcopal Church 117 Maplewood Street Bethany Beach\, DE 19930
UID:e.2126.25300
SEQUENCE:3
DTSTAMP:20260421T040320Z
URL:http://business.thequietresorts.com/events/details/antisemitism-time-to-stop-the-hate-25300
END:VEVENT

END:VCALENDAR
