BEGIN:VCALENDAR
VERSION:2.0
PRODID:-//ChamberMaster//Event Calendar 2.0//EN
METHOD:PUBLISH
X-PUBLISHED-TTL:P3D
REFRESH-INTERVAL:P3D
CALSCALE:GREGORIAN
BEGIN:VEVENT
DTSTART:20240517T123000Z
DTEND:20240517T190000Z
X-MICROSOFT-CDO-ALLDAYEVENT:FALSE
SUMMARY:Annual Golf Outing for Sussex County Habitat for Humanity
DESCRIPTION:Annual Golf Outing at Midland Golf Course\n\n\n\nHelp raise awareness and funds for Sussex County Habitat for Humanity on Friday\, May 17th at Midland Par 3 Golf Course in Lewes.\n\n\n\nCost: $75 per golfer\n\n\n\nIncludes: shotgun start of 9 a.m. will begin the event. Scramble will be the game play format!\n\n\n\nParticipants are encouraged to arrive at 8:30 a.m. to register. A light breakfast will be provided. Bethany Blues will be providing lunch following the game play.\n\n\n\nTo register or for sponsorship opportunities\, click here: https://www.sussexcountyhabitat.org/events/sussex-county-habitat-for-humanity-golf-outing/\n\n\n\nContact: Eileen Hickey eileen@sussexcountyhabitat.org with any questions.
X-ALT-DESC;FMTTYPE=text/html:<span style="font-family:arial\,sans-serif\;"><span style="font-size:10.0pt\;"><span style="font-size:20px\;"><strong>Annual Golf Outing at Midland Golf Course</strong></span><br />\n<br />\nHelp raise awareness and funds for Sussex County Habitat for Humanity on Friday\, May 17th at Midland Par 3 Golf Course in Lewes.<br />\n<br />\nCost: $75 per golfer<br />\n<br />\nIncludes: shotgun start of 9 a.m. will begin the event. Scramble will be the game play format!<br />\n<br />\nParticipants are encouraged to arrive at 8:30 a.m. to register. A light breakfast will be provided. Bethany Blues will be providing lunch following the game play.<br />\n<br />\nTo register or for sponsorship opportunities\, click here: <a href="https://www.sussexcountyhabitat.org/events/sussex-county-habitat-for-humanity-golf-outing/">https://www.sussexcountyhabitat.org/events/sussex-county-habitat-for-humanity-golf-outing/</a><br />\n<br />\nContact: Eileen Hickey <a href="mailto:eileen@sussexcountyhabitat.org">eileen@sussexcountyhabitat.org</a>&nbsp\;with any questions.</span></span>
LOCATION:Midland Golf Course 34578 Pinnacle Rd. Lewes\, DE 19958
UID:e.2126.29218
SEQUENCE:3
DTSTAMP:20260420T042234Z
URL:http://business.thequietresorts.com/events/details/annual-golf-outing-for-sussex-county-habitat-for-humanity-29218
END:VEVENT

END:VCALENDAR
