BEGIN:VCALENDAR
VERSION:2.0
PRODID:-//ChamberMaster//Event Calendar 2.0//EN
METHOD:PUBLISH
X-PUBLISHED-TTL:P3D
REFRESH-INTERVAL:P3D
CALSCALE:GREGORIAN
BEGIN:VEVENT
DTSTART:20230406T223000Z
DTEND:20230407T010000Z
X-MICROSOFT-CDO-ALLDAYEVENT:FALSE
SUMMARY:Annual Community Seder
DESCRIPTION:Annual Community Seder on April 6th at Temple Bat Yam!  Menu catered by Rosenfeld's Deli includes:\n\n	Matzo Ball Soup\n	Gefilte Fish\n	Choice of Brisket or Baked Chicken\n	Green Vegetable & a starch\n	Vegetarian option available\n	Assortment of desserts
X-ALT-DESC;FMTTYPE=text/html:Annual Community Seder on April 6th at Temple Bat Yam!&nbsp\; Menu catered by Rosenfeld&#39\;s Deli includes:\n<ul>\n	<li>Matzo Ball Soup</li>\n	<li>Gefilte Fish</li>\n	<li>Choice of Brisket or Baked Chicken</li>\n	<li>Green Vegetable &amp\; a starch</li>\n	<li>Vegetarian option available</li>\n	<li>Assortment of desserts</li>\n</ul>\n
LOCATION:Temple Bat Yam's Social Hall 11036 Worcester Highway Berlin\, MD 21811
UID:e.2126.25240
SEQUENCE:3
DTSTAMP:20260421T040340Z
URL:http://business.thequietresorts.com/events/details/annual-community-seder-25240
END:VEVENT

END:VCALENDAR
