BEGIN:VCALENDAR
VERSION:2.0
PRODID:-//ChamberMaster//Event Calendar 2.0//EN
METHOD:PUBLISH
X-PUBLISHED-TTL:P3D
REFRESH-INTERVAL:P3D
CALSCALE:GREGORIAN
BEGIN:VEVENT
DTSTART:20221124T123000Z
DTEND:20221124T150000Z
X-MICROSOFT-CDO-ALLDAYEVENT:FALSE
SUMMARY:Annual Bethany Fenwick Thanksgiving Turkey Trot
DESCRIPTION:Bethany-Fenwick Thanksgiving Day Turkey Trot\n\nThe non-chip timed 2 mile Fun Run/Walk starts and finishes on the Bethany Beach Boardwalk Bandstand\, Garfield Pkwy & the Boardwalk.\n\nThe event benefits the Bethany Beach Volunteer Fire Company and will continue the tradition of giving a pie to the overall male and female winners and costume contest winners!\n\n\n\n2022 Commemorative Shirt Guaranteed for early registrations!\n\nSame day registrations also available starting at 7:30am.\n\n\n\nSponsorships are currently available and volunteers needed.  Interested parties should contact Ernie Felici at ernie@focusmultisports.com
X-ALT-DESC;FMTTYPE=text/html:<div style="text-align: center\;"><strong><span style="font-size:14px\;"><span style="font-family:arial\;">Bethany-Fenwick Thanksgiving Day Turkey Trot</span></span></strong><br />\nThe non-chip timed 2 mile Fun Run/Walk starts and finishes on the Bethany Beach Boardwalk Bandstand\, Garfield Pkwy &amp\; the Boardwalk.<br />\nThe event benefits the Bethany Beach Volunteer Fire Company and will continue the tradition of giving&nbsp\;a pie to the overall male and female winners and costume contest winners!<br />\n<br />\n<strong>2022 Commemorative Shirt Guaranteed for early registrations!</strong><br />\nSame day registrations also available starting at 7:30am.<br />\n<br />\nSponsorships are currently available and volunteers needed.&nbsp\; Interested parties should contact Ernie Felici at ernie@focusmultisports.com</div>\n
LOCATION:Bethany Beach Boardwalk Bandstand
UID:e.2126.24772
SEQUENCE:3
DTSTAMP:20260421T142207Z
URL:http://business.thequietresorts.com/events/details/annual-bethany-fenwick-thanksgiving-turkey-trot-24772
END:VEVENT

END:VCALENDAR
