BEGIN:VCALENDAR
VERSION:2.0
PRODID:-//ChamberMaster//Event Calendar 2.0//EN
METHOD:PUBLISH
X-PUBLISHED-TTL:P3D
REFRESH-INTERVAL:P3D
CALSCALE:GREGORIAN
BEGIN:VEVENT
DTSTART:20231007T223000Z
DTEND:20231008T010000Z
X-MICROSOFT-CDO-ALLDAYEVENT:FALSE
SUMMARY:Angry Young Band
DESCRIPTION:This Billy Joel Tribute is a high-energy\, seven-piece band covering the  Billy Joel catalog from Cold Spring Harbor through River of Dreams. The show mixes deep cuts and fan favorites with everyone's favorite chart-topping hits and classic songs.
X-ALT-DESC;FMTTYPE=text/html:This Billy Joel Tribute is a high-energy\, seven-piece band covering the &nbsp\;Billy Joel catalog from Cold Spring Harbor through River of Dreams. The show mixes deep cuts and fan favorites with everyone&rsquo\;s favorite chart-topping hits and classic songs.
LOCATION:Bethany Beach Bandstand
UID:e.2126.26639
SEQUENCE:3
DTSTAMP:20260420T182203Z
URL:http://business.thequietresorts.com/events/details/angry-young-band-26639
END:VEVENT

END:VCALENDAR
