BEGIN:VCALENDAR
VERSION:2.0
PRODID:-//ChamberMaster//Event Calendar 2.0//EN
METHOD:PUBLISH
X-PUBLISHED-TTL:P3D
REFRESH-INTERVAL:P3D
CALSCALE:GREGORIAN
BEGIN:VEVENT
DTSTART:20220630T190000Z
DTEND:20220630T200000Z
X-MICROSOFT-CDO-ALLDAYEVENT:FALSE
SUMMARY:ANG Band of the Northeast
DESCRIPTION:The Concert Band will be performing its exciting repertoire of wind band music including Americana\, movie themes\, jazz favorites\, classical and contemporary band music\, and of course popular marches. The Concert Band regularly features its world class musicians with instrumental and vocal solos. music.af.mil/Bands/ANG-Band-of-the-Northeast
X-ALT-DESC;FMTTYPE=text/html:The Concert Band will be performing its exciting repertoire of wind band music including Americana\, movie themes\, jazz favorites\, classical and contemporary band music\, and of course popular marches. The Concert Band regularly features its world class musicians with instrumental and vocal solos. music.af.mil/Bands/ANG-Band-of-the-Northeast
LOCATION:Bethany Beach Bandstand Garfield Parkway & Boardwalk\, Bethany Beach
UID:e.2126.23700
SEQUENCE:3
DTSTAMP:20260421T223411Z
URL:http://business.thequietresorts.com/events/details/ang-band-of-the-northeast-23700
END:VEVENT

END:VCALENDAR
