BEGIN:VCALENDAR
VERSION:2.0
PRODID:-//ChamberMaster//Event Calendar 2.0//EN
METHOD:PUBLISH
X-PUBLISHED-TTL:P3D
REFRESH-INTERVAL:P3D
CALSCALE:GREGORIAN
BEGIN:VEVENT
DTSTART:20230830T230000Z
DTEND:20230831T000000Z
X-MICROSOFT-CDO-ALLDAYEVENT:FALSE
SUMMARY:Andrew Goldenhersh
DESCRIPTION:Andrew Goldenhersh ranks among today's elite masters of magic\, drawing thunderous acclaim around the globe. His consummate skill and signature style have mesmerized audiences from Hollywood to the Far East and all points in between. A perennial honoree at the legendary Magic Castle\, Andrew has also received accolades from the prestigious Academy of Magical Arts. Andrew has been prominently featured on numerous national television broadcasts in the US\, Japan and China. His dramatic flair\, imaginative presentation and sense of humor are as irresistible as his breathtaking original magic. IT IS AN HONOR TO HAVE HIM ON OUR STAGE!
X-ALT-DESC;FMTTYPE=text/html:<span style="color:rgb(0\, 0\, 0)\; font-family:tahoma\,geneva\,sans-serif\; font-size:14px">Andrew Goldenhersh ranks among today&rsquo\;s elite masters of magic\, drawing thunderous acclaim around the globe. His consummate skill and signature style have mesmerized audiences from Hollywood to the Far East and all points in between. A perennial honoree at the legendary Magic Castle\, Andrew has also received accolades from the prestigious Academy of Magical Arts. Andrew has been prominently featured on numerous national television broadcasts in the US\, Japan and China. His dramatic flair\, imaginative presentation and sense of humor are as irresistible as his breathtaking original magic.&nbsp\;</span><span style="color:rgb(0\, 0\, 0)\; font-family:tahoma\,geneva\,sans-serif\; font-size:14px">IT IS AN HONOR TO HAVE HIM ON OUR STAGE</span><span style="color:rgb(0\, 0\, 0)\; font-family:tahoma\,geneva\,sans-serif\; font-size:14px">!</span>
LOCATION:Dickens Parlour Theatre 31810 Good Earth Lane Ocean View\, DE 19970
UID:e.2126.26078
SEQUENCE:3
DTSTAMP:20260420T213356Z
URL:http://business.thequietresorts.com/events/details/andrew-goldenhersh-08-30-2023-26078
END:VEVENT

END:VCALENDAR
