BEGIN:VCALENDAR
VERSION:2.0
PRODID:-//ChamberMaster//Event Calendar 2.0//EN
METHOD:PUBLISH
X-PUBLISHED-TTL:P3D
REFRESH-INTERVAL:P3D
CALSCALE:GREGORIAN
BEGIN:VEVENT
DTSTART:20230809T230000Z
DTEND:20230810T020000Z
X-MICROSOFT-CDO-ALLDAYEVENT:FALSE
SUMMARY:An In-Depth Rare Evening with Ms. Dionne Warwick
DESCRIPTION:TICKETS ARE $15\, CHILDREN 12 AND UNDER ARE FREE\n\nEnjoy an in-depth rare night with the iconic Dionne Warwick. The evening will begin with legendary recording artist Jean Carne performing a musical tribute of Dionne's greatest hits\, including\, "I Say a Little Prayer For You\," "Walk On By\," "What The World Needs Now\," "That's What Friends Are For\," etc. We will honor and celebrate a true living legend. She's one of the greatest female singers of all time. \n\nNext\, Dionne will take the stage for a conversation that will share tidbits of her extraordinary 60-plus year career and her impact supporting social activism and philanthropy to being the Queen of Twitter and why she wanted to tell her story through film. After the conversation with Dionne Warwick\, enjoy a screening of her Award Winning documentary film "Dionne Warwick: Don't Make Me Over\," executive produced by the The Carl M. Freeman Foundation. \n\nEvent produced by: Wooley Entertainment\, LLC
X-ALT-DESC;FMTTYPE=text/html:<h6>TICKETS ARE $15\, CHILDREN 12 AND UNDER ARE FREE</h6>\n\n<p>Enjoy an in-depth rare night with the iconic Dionne Warwick. The evening will begin with legendary recording&nbsp\;artist <em>Jean Carne</em> performing&nbsp\;a musical tribute of Dionne&rsquo\;s greatest hits\, including\, &quot\;<em>I Say a Little Prayer For You\,&quot\;</em>&nbsp\;<em>&quot\;Walk On By\,&quot\;</em>&nbsp\;&quot\;<em>What The World&nbsp\;Needs&nbsp\;Now\,</em>&quot\; &quot\;<em>That&#39\;s What Friends Are For\,&quot\;</em>&nbsp\;etc.&nbsp\;We will honor and celebrate a true living legend. She&#39\;s one of the greatest female singers of all time.&nbsp\;</p>\n\n<p>Next\, Dionne will take the stage for a conversation that will share tidbits of her extraordinary 60-plus year career and her impact supporting social activism and philanthropy to being the Queen of Twitter and why she wanted to tell her story through film. After the conversation with Dionne Warwick\, enjoy a screening of her Award Winning documentary film <em>&ldquo\;Dionne Warwick: Don&rsquo\;t Make Me Over\,&quot\;&nbsp\;</em>executive produced by the The Carl M. Freeman Foundation.&nbsp\;</p>\n\n<p><em>Event produced by: Wooley Entertainment\, LLC&nbsp\;</em></p>\n
LOCATION:Freeman Arts Pavilion a program of the Joshua M. Freeman Foundation is a champion of the arts on Delmarva\, providing diverse arts performances as well as arts access programs for local schools and the community at large. From June-September the Freeman Arts Pavilion is an open-air performance space showcasing music\, dance\, comedy\, theater\, children's programs\, and free events.
UID:e.2126.26117
SEQUENCE:3
DTSTAMP:20260420T230146Z
URL:http://business.thequietresorts.com/events/details/an-in-depth-rare-evening-with-ms-dionne-warwick-26117
END:VEVENT

END:VCALENDAR
