BEGIN:VCALENDAR
VERSION:2.0
PRODID:-//ChamberMaster//Event Calendar 2.0//EN
METHOD:PUBLISH
X-PUBLISHED-TTL:P3D
REFRESH-INTERVAL:P3D
CALSCALE:GREGORIAN
BEGIN:VEVENT
DTSTART:20220630T213000Z
DTEND:20220701T003000Z
X-MICROSOFT-CDO-ALLDAYEVENT:FALSE
SUMMARY:An Evening with Saucony Creek Brewing Co. at Bear Trap Dunes
DESCRIPTION:Enjoy 4 amazing food & beer pairings throughout the evening in a wonderful cocktail party setting with live music on the Bear Trap Dunes Patio!\n\n\n\nFood & Beer Pairings\n\n\n\nOrange & Tarragon Scented Scallop\n\nMicro Arugula\, Tomato Confit\, Blood Orange Gastrique\n\n - paired with -\n\nMandarin Orange Shandy\n\n\n\nChimichurri Skirt Steak\n\nConfit Peruvian Potatoes\, Blistered Campari Tomatoes\, Mint Chimichurri\n\n- paired with -\n\nUnicorn in the Fairway\n\n\n\nFennel Pollen Crusted Quail\n\nSpiced Sweet Carrot Puree\, Candied Bacon\, Sage Foam\n\n- paired with -\n\nPups in the Creek West Coast IPA\n\n\n\nDark Chocolate Stout Cake\n\nRaspberry Gelee\, SPiced Chantilly Creat\n\n- paired with -\n\nRussian Imperial Stout
X-ALT-DESC;FMTTYPE=text/html:Enjoy 4 amazing food &amp\; beer pairings throughout the evening in a wonderful cocktail party setting with live music on the Bear Trap Dunes Patio!<br />\n<br />\n<strong><u><span style="color:#008000\;">Food &amp\; Beer Pairings</span></u><br />\n<br />\n<span style="color:#000000\;">Orange &amp\; Tarragon Scented Scallop</span></strong><br />\nMicro Arugula\, Tomato Confit\, Blood Orange Gastrique<br />\n&nbsp\;<em>- paired with -</em><br />\n<strong><span style="color:#008000\;">Mandarin Orange Shandy</span><br />\n<br />\nChimichurri Skirt Steak</strong><br />\nConfit Peruvian Potatoes\, Blistered Campari Tomatoes\, Mint Chimichurri<br />\n<em>- paired with -</em><br />\n<span style="color:#008000\;"><strong>Unicorn in the Fairway</strong></span><br />\n<br />\n<strong>Fennel Pollen Crusted Quail</strong><br />\nSpiced Sweet Carrot Puree\, Candied Bacon\, Sage Foam<br />\n<span style="color:#000000\;"><em>- paired with </em><strong>-</strong></span><br />\n<span style="color:#008000\;"><strong>Pups in the Creek West Coast IPA</strong></span><br />\n<br />\n<strong>Dark Chocolate Stout Cake</strong><br />\nRaspberry Gelee\, SPiced Chantilly Creat<br />\n- paired with -<br />\n<span style="color:#008000\;"><strong>Russian Imperial Stout</strong></span>
LOCATION:The Den at Bear Trap Dunes 7 Club House Dr. Ocean View\, DE 19970
UID:e.2126.23798
SEQUENCE:3
DTSTAMP:20260421T223235Z
URL:http://business.thequietresorts.com/events/details/an-evening-with-saucony-creek-brewing-co-at-bear-trap-dunes-23798
END:VEVENT

END:VCALENDAR
