BEGIN:VCALENDAR
VERSION:2.0
PRODID:-//ChamberMaster//Event Calendar 2.0//EN
METHOD:PUBLISH
X-PUBLISHED-TTL:P3D
REFRESH-INTERVAL:P3D
CALSCALE:GREGORIAN
BEGIN:VEVENT
DTSTART:20230429T223000Z
DTEND:20230430T020000Z
X-MICROSOFT-CDO-ALLDAYEVENT:FALSE
SUMMARY:An Evening of Doo Wop!
DESCRIPTION:The Sisterhood of Temple Bat Yam presents an Evening of Doo Wop with a live DJ!\n\n50's - 60's music!  50/50 Raffle! Prize for the best male & female costumes!\n\nAppetizers\, Italian buffet\, dessert\, soft drinks and gratuity included in the $50.00 per person price!  Cash bar!\n\nSend your check\, payable to Sisterhood of TBY\, to:\n\nTemple Bat Yam\n\n11036 Worcester Hwy\n\nBerlin\, MD 21811\n\nRSVP's requested no later than April 19\, 2023!
X-ALT-DESC;FMTTYPE=text/html:The Sisterhood of Temple Bat Yam presents an Evening of Doo Wop with a live DJ!<br />\n50&#39\;s - 60&#39\;s music!&nbsp\; 50/50 Raffle! Prize for the best male &amp\; female costumes!<br />\nAppetizers\, Italian buffet\, dessert\, soft drinks and gratuity included in the $50.00 per person price!&nbsp\; Cash bar!<br />\nSend your check\, payable to Sisterhood of TBY\, to:<br />\nTemple Bat Yam<br />\n11036 Worcester Hwy<br />\nBerlin\, MD 21811<br />\nRSVP&#39\;s requested no later than April 19\, 2023!
LOCATION:The Loft on 54 Mio Fratello 38016 Fenwick Shoals Blvd Selbyville\, DE 19975
UID:e.2126.25241
SEQUENCE:3
DTSTAMP:20260421T040655Z
URL:http://business.thequietresorts.com/events/details/an-evening-of-doo-wop-25241
END:VEVENT

END:VCALENDAR
