BEGIN:VCALENDAR
VERSION:2.0
PRODID:-//ChamberMaster//Event Calendar 2.0//EN
METHOD:PUBLISH
X-PUBLISHED-TTL:P3D
REFRESH-INTERVAL:P3D
CALSCALE:GREGORIAN
BEGIN:VEVENT
DTSTART:20230715T140000Z
DTEND:20230715T150000Z
X-MICROSOFT-CDO-ALLDAYEVENT:FALSE
SUMMARY:AMP Up the Music: Kids Rock!
DESCRIPTION:ADMISSION: FREE\n\nCome rock out with the young musicians of AMP Studio   the Academy of Music Performance! Join us for a one-of-a-kind chance to not just enjoy the music\, but also have the opportunity to play or sing with the band! AMP musicians will bring a variety of percussion instruments for young audience members to try and will teach words to songs for a big sing-along! Don't miss this super fun morning of music where everyone is a rock star! For more information abuot AMP Studio\, please visit their website at https://www.ampstudiorocks.com/.\n\n \n\nFreeman Arts Pavilion Young Audience Series receives generous support from PNC Foundation:
X-ALT-DESC;FMTTYPE=text/html:<h6>ADMISSION: FREE</h6>\n\n<p>Come rock out with the young musicians of AMP Studio &ndash\; the Academy of Music Performance! Join us for a one-of-a-kind chance to not just enjoy the music\, but also have the opportunity to play or sing with the band! AMP musicians will bring a variety of percussion instruments for young audience members to try and will teach words to songs for a big sing-along! Don&#39\;t miss this super fun morning of music where everyone is a rock star! For more information abuot AMP Studio\, please visit their website at&nbsp\;<a href="https://nam04.safelinks.protection.outlook.com/?url=https%3A%2F%2Fwww.ampstudiorocks.com%2F&amp\;data=05%7C01%7Calyson%40freemanfoundation.org%7C4000f5c6100443626d2808db35d8e7f6%7Cb710dbd3e3b44a55a62f0fafb834cd38%7C0%7C0%7C638162977968034184%7CUnknown%7CTWFpbGZsb3d8eyJWIjoiMC4wLjAwMDAiLCJQIjoiV2luMzIiLCJBTiI6Ik1haWwiLCJXVCI6Mn0%3D%7C3000%7C%7C%7C&amp\;sdata=U6CEwwgIJA%2FlVXsf4IMZsigbJYf9cJX2RZUFZLLLjxc%3D&amp\;reserved=0" id="x_ydp679fb632yiv0071611318LPNoLPOWALinkPreview" rel="nofollow noopener" style="box-sizing: border-box\; background-color: transparent\; color: rgb(191\, 88\, 0)\; transition: all 0.3s ease 0s\; font-weight: 700\;" target="_blank" title="Original URL:\nhttps://www.ampstudiorocks.com/\n\nClick to follow link.">https://www.ampstudiorocks.com/.</a><br />\n&nbsp\;</p>\n\n<p>Freeman Arts Pavilion Young Audience Series&nbsp\;receives generous support from PNC Foundation:</p>\n
LOCATION:Freeman Arts Pavilion a program of the Joshua M. Freeman Foundation is a champion of the arts on Delmarva\, providing diverse arts performances as well as arts access programs for local schools and the community at large. From June-September the Freeman Arts Pavilion is an open-air performance space showcasing music\, dance\, comedy\, theater\, children's programs\, and free events.
UID:e.2126.26098
SEQUENCE:3
DTSTAMP:20260420T230735Z
URL:http://business.thequietresorts.com/events/details/amp-up-the-music-kids-rock-26098
END:VEVENT

END:VCALENDAR
