BEGIN:VCALENDAR
VERSION:2.0
PRODID:-//ChamberMaster//Event Calendar 2.0//EN
METHOD:PUBLISH
X-PUBLISHED-TTL:P3D
REFRESH-INTERVAL:P3D
CALSCALE:GREGORIAN
BEGIN:VEVENT
DTSTART:20210626T130000Z
DTEND:20210626T140000Z
X-MICROSOFT-CDO-ALLDAYEVENT:FALSE
SUMMARY:Alzheimer's Association Fundraiser - Standing\, Seated & Floor Mobility with Robby Chin\, CPT
DESCRIPTION:STAY FIT ALL SUMMER LONG\n\nSupport us as we raise funds for the Alzheimer's Association.\n\nRobby Chin (Certified Personal Trainer/Health and Wellness Coordinator at the Richard A. Henson Wellness Center at MAC\, Inc. in Salisbury\, MD) has been kind enough to donate his time to help us stay fit all summer long.\n\n\n\nJune 26 - 9 a.m.: Standing\, Seated & Floor Mobility (Beginner)\n\n\n\nEach exercise class will be offered via Zoom and the Zoom link will be emailed to you 24 hours before the class.  To donate\, please make your checks payable to the Alzheimer's Association and mail them to our office at Taylor White's attention - 225 High Street\, Seaford\, DE 19973.  No donation is too small to attend these classes.\n\n\n\nPlease email Taylor - TRW@pwwlaw.com or Meagan - MLS@pwwlaw.com for more information or to register.
X-ALT-DESC;FMTTYPE=text/html:STAY FIT ALL SUMMER LONG<br />\nSupport us as we raise funds for the Alzheimer&#39\;s Association.<br />\nRobby Chin (Certified Personal Trainer/Health and Wellness Coordinator at the Richard A. Henson Wellness Center at MAC\, Inc. in Salisbury\, MD) has been kind enough to donate his time to help us stay fit all summer long.<br />\n<br />\nJune 26 - 9 a.m.: Standing\, Seated &amp\; Floor Mobility (Beginner)<br />\n<br />\nEach exercise class will be offered via Zoom and the Zoom link will be emailed to you 24 hours before the class.&nbsp\; To donate\, please make your checks payable to the Alzheimer&#39\;s Association and mail them to our office at Taylor White&#39\;s attention - 225 High Street\, Seaford\, DE 19973.&nbsp\; No donation is too small to attend these classes.<br />\n<br />\nPlease email Taylor - TRW@pwwlaw.com or Meagan - MLS@pwwlaw.com for more information or to register.<br />\n<br />\n&nbsp\;
LOCATION:Each exercise class will be offered via Zoom and the Zoom link will be emailed to you 24 hours before the class. To donate\, please make your checks payable to the Alzheimer's Association and mail them to our office at Taylor White's attention - 225 High Street\, Seaford\, DE 19973. No donation is too small to attend these classes. Please email Taylor - TRW@pwwlaw.com or Meagan - MLS@pwwlaw.com for more information or to register.
UID:e.2126.22026
SEQUENCE:3
DTSTAMP:20260424T192108Z
URL:http://business.thequietresorts.com/events/details/alzheimer-s-association-fundraiser-standing-seated-floor-mobility-with-robby-chin-cpt-22026
END:VEVENT

END:VCALENDAR
