BEGIN:VCALENDAR
VERSION:2.0
PRODID:-//ChamberMaster//Event Calendar 2.0//EN
METHOD:PUBLISH
X-PUBLISHED-TTL:P3D
REFRESH-INTERVAL:P3D
CALSCALE:GREGORIAN
BEGIN:VEVENT
DTSTART;VALUE=DATE:20230330
DTEND;VALUE=DATE:20230501
TRANSP:TRANSPARENT
X-MICROSOFT-CDO-ALLDAYEVENT:TRUE
SUMMARY:Alpha Alpha Service Sorority Annual Fundraiser
DESCRIPTION:Help Alpha Alpha Service Sorority continue their decades long service to help local families in need through their annual Spring Raffle!  Contact Rosanne at roshoemaker@verizon.net for information on purchasing raffle tickets. \n\n\n\nTAILGATE PARTY PRIZE PACKAGE VALUED AT $1500 INCLUDES:\n\n- Complete 28" Blackstone Griddle Package\n\n- Freestanding Canopy Tent\n\n- 52 Qt. Ultra Light RTIC Cooler\n\n- 6 ft. Folding Table\n\n- 2 REI "Big Dude" Camp Chairs\n\n- JBL Waterproof Bluetooth Speaker\n\n- $250 Omaha Steaks Gift Card\n\n- $75 Primo Hoagies Gift Card\n\n- $50 Lighthouse Liquors Gift Card \n\n- 2 HYdrofrlask Tumblers with Lid
X-ALT-DESC;FMTTYPE=text/html:<span style="font-family:arial\;"><span style="color: rgb(20\, 24\, 35)\; line-height: 18.76px\; background-color: rgb(255\, 255\, 255)\;">Help Alpha Alpha Service Sorority continue their decades long service to help local families in need through their annual Spring Raffle!&nbsp\; Contact Rosanne at roshoemaker@verizon.net for information on purchasing raffle tickets.&nbsp\;<br />\n<br />\nTAILGATE PARTY PRIZE PACKAGE VALUED AT $1500 INCLUDES:<br />\n- Complete 28&quot\; Blackstone Griddle Package<br />\n- Freestanding Canopy Tent<br />\n- 52 Qt. Ultra Light RTIC Cooler<br />\n- 6 ft. Folding Table</span><br />\n<span style="color: rgb(20\, 24\, 35)\; line-height: 18.76px\; background-color: rgb(255\, 255\, 255)\;">- 2 REI &quot\;Big Dude&quot\; Camp Chairs<br />\n- JBL Waterproof Bluetooth Speaker</span><br />\n- $250 Omaha Steaks Gift Card<br />\n- $75 Primo Hoagies Gift Card<br />\n- $50 Lighthouse Liquors Gift Card&nbsp\;<br />\n- 2 HYdrofrlask Tumblers with Lid</span>
LOCATION:
UID:e.2126.25348
SEQUENCE:3
DTSTAMP:20260421T040422Z
URL:http://business.thequietresorts.com/events/details/alpha-alpha-service-sorority-annual-fundraiser-25348
END:VEVENT

END:VCALENDAR
