BEGIN:VCALENDAR
VERSION:2.0
PRODID:-//ChamberMaster//Event Calendar 2.0//EN
METHOD:PUBLISH
X-PUBLISHED-TTL:P3D
REFRESH-INTERVAL:P3D
CALSCALE:GREGORIAN
BEGIN:VEVENT
DTSTART;VALUE=DATE:20240412
DTEND;VALUE=DATE:20240506
TRANSP:TRANSPARENT
X-MICROSOFT-CDO-ALLDAYEVENT:TRUE
SUMMARY:Alpha Alpha's 2024 Bethany Beach Staycation Raffle
DESCRIPTION:You can win a *weekend at Sea Colony in Beautiful Bethany Beach\, gift cards\, and merchandise from local businesses or $500 cash!\n\n\n\nTickets cost $20 each and can be purchased at Oceanova and Miller's Creek or email alphaalphasorority@gmail.com.\n\n\n\nDrawing will be held on May 5th at Miller's Creek Gift Shop.\n\n\n\n* Blackout dates apply\n\n\n\nProceeds of the raffle support: community service projects benefiting local children and families through scholarships\, Christmas and Thanksgiving baskets\, food gift cards\, school supplies and gift to local nursing homes.\n\n\n\nThank you for your donations!
X-ALT-DESC;FMTTYPE=text/html:<span style="font-size:20px\;"><strong>You can win a *weekend at Sea Colony in Beautiful Bethany Beach\, gift cards\, and merchandise from local businesses or $500 cash!</strong></span><br />\n<br />\nTickets cost $20 each and can be purchased at Oceanova and Miller&#39\;s Creek or email alphaalphasorority@gmail.com.<br />\n<br />\nDrawing will be held on May 5th at Miller&#39\;s Creek Gift Shop.<br />\n<br />\n* Blackout dates apply<br />\n<br />\nProceeds of the raffle support: community service projects benefiting local children and families through scholarships\, Christmas and Thanksgiving baskets\, food gift cards\, school supplies and gift to local nursing homes.<br />\n<br />\nThank you for your donations!
LOCATION:Oceanova 17 Atlantic Ave. Suite 1 Ocean View\, DE 19970 Miller's Creek Gift Shop 35123 Atlantic Ave. Millville\, DE 19967
UID:e.2126.28728
SEQUENCE:3
DTSTAMP:20260420T041904Z
URL:http://business.thequietresorts.com/events/details/alpha-alpha-s-2024-bethany-beach-staycation-raffle-28728
END:VEVENT

END:VCALENDAR
