BEGIN:VCALENDAR
VERSION:2.0
PRODID:-//ChamberMaster//Event Calendar 2.0//EN
METHOD:PUBLISH
X-PUBLISHED-TTL:P3D
REFRESH-INTERVAL:P3D
CALSCALE:GREGORIAN
BEGIN:VEVENT
DTSTART:20230210T170000Z
DTEND:20230216T040000Z
X-MICROSOFT-CDO-ALLDAYEVENT:FALSE
SUMMARY:Alni Body Care Valentines Day Gift Sale 15% off Website Orders of $30+ with code VALENTINE15
DESCRIPTION:Alni Body Care Valentines Day Gift Sale!\n\nTake 15% off Website Orders of $30 and up with code VALENTINE15\n\nwww.alnibodycare.com\n\nShop local & handmade this Valentines Day.  Also many gift options for Galentines Day gifts\, gifts for teachers\, and corporate gifts. \n\n\n\nFind me locally this weekend at the following markets: \n\nSaturday - Ocean Pines Farmers Market 9-12\; Burley Oak Valentines Market 2-6pm\n\nSunday - Lewes Wheelhouse Valentines Sip & Shop 2-5pm\n\n\n\n*sale valid for website orders only.  code expires 2/15 at 11:59pm
X-ALT-DESC;FMTTYPE=text/html:<span style="font-size:18px"><span style="font-family:times new roman">Alni Body Care Valentines Day Gift Sale!<br />\nTake 15% off Website Orders of $30 and up with code <strong>VALENTINE15</strong><br />\n<strong><a href="https://www.alnibodycare.com/">www.alnibodycare.com</a></strong><br />\nShop local &amp\; handmade this Valentines Day.&nbsp\; Also many gift options for Galentines Day gifts\, gifts for teachers\, and corporate gifts.&nbsp\;<br />\n<br />\nFind me locally this weekend at the following markets:&nbsp\;<br />\nSaturday - Ocean Pines Farmers Market 9-12\; Burley Oak Valentines Market 2-6pm<br />\nSunday - Lewes Wheelhouse Valentines Sip &amp\; Shop 2-5pm<br />\n<br />\n<em><span style="font-size:14px">*sale valid for website orders only.&nbsp\; code expires 2/15 at 11:59pm</span></em></span></span>
LOCATION:
UID:e.2126.25169
SEQUENCE:3
DTSTAMP:20260421T074108Z
URL:http://business.thequietresorts.com/events/details/alni-body-care-valentines-day-gift-sale-15-off-website-orders-of-30-with-code-valentine15-25169
END:VEVENT

END:VCALENDAR
