BEGIN:VCALENDAR
VERSION:2.0
PRODID:-//ChamberMaster//Event Calendar 2.0//EN
METHOD:PUBLISH
X-PUBLISHED-TTL:P3D
REFRESH-INTERVAL:P3D
CALSCALE:GREGORIAN
BEGIN:VEVENT
DTSTART;VALUE=DATE:20230717
DTEND;VALUE=DATE:20230901
TRANSP:TRANSPARENT
X-MICROSOFT-CDO-ALLDAYEVENT:TRUE
SUMMARY:Alni Body Care *NEW* Natural Bug Spray with Lemongrass & Basil Essential Oils
DESCRIPTION:Alni Body Care *NEW PRODUCT*\n\nNatural Bug Spray with Lemongrass & Basil essential oils + a hint of lavender\nAvailable in 2oz or 4oz spray bottles.  Super effective against biting bugs in a variety of locales + smells.  Formulated with the power of lemongrass essential oil\, basil essential oil\, and lavender essential oil.  Water-based\, contains NO alcohol.  Chamber members and friends take 10% off lemongrass & basil bug spray OR salve during July & August 2023 with code LEMONGRASS10\n\nhttps://www.alnibodycare.com/
X-ALT-DESC;FMTTYPE=text/html:<h1><span style="font-family:times new roman"><strong>Alni Body Care *NEW PRODUCT*</strong></span></h1>\n\n<h2><span style="font-family:times new roman"><em>Natural Bug Spray with Lemongrass &amp\; Basil essential oils + a hint of lavender</em></span></h2>\n<span style="font-size:14px"><span style="font-family:times new roman">Available in 2oz or 4oz spray bottles.&nbsp\; Super effective against biting bugs in a variety of locales + smells.&nbsp\; Formulated with the power of lemongrass essential oil\, basil essential oil\, and lavender essential oil.&nbsp\; Water-based\, contains NO alcohol.&nbsp\; <em>Chamber members and friends take 10% off lemongrass &amp\; basil bug spray OR salve during July &amp\; August 2023 with code</em> <strong>LEMONGRASS10</strong></span></span>\n\n<h2><span style="font-family:times new roman"><strong><a href="https://www.alnibodycare.com/">https://www.alnibodycare.com/</a></strong></span></h2>\n
LOCATION:Online https://www.alnibodycare.com/
UID:e.2126.26402
SEQUENCE:3
DTSTAMP:20260420T230605Z
URL:http://business.thequietresorts.com/events/details/alni-body-care-new-natural-bug-spray-with-lemongrass-basil-essential-oils-26402
END:VEVENT

END:VCALENDAR
