BEGIN:VCALENDAR
VERSION:2.0
PRODID:-//ChamberMaster//Event Calendar 2.0//EN
METHOD:PUBLISH
X-PUBLISHED-TTL:P3D
REFRESH-INTERVAL:P3D
CALSCALE:GREGORIAN
BEGIN:VEVENT
DTSTART;VALUE=DATE:20230601
DTEND;VALUE=DATE:20230701
TRANSP:TRANSPARENT
X-MICROSOFT-CDO-ALLDAYEVENT:TRUE
SUMMARY:Alni Body Care June Raffle Benefitting Selbyville Public Library
DESCRIPTION:Alni Body Care June Raffle Benefitting Selbyville Public Library \n\nVisit Selbyville Public Library during the month of June to enter this awesome raffle!  The prize is a Farmers Market Goodie Basket full of locally-made artisan wares from local businesses and artisans.  Raffle tickets can be purchased at the circulation desk at the library and proceeds directly benefit Selbyville Public Library. 1 ticket for $1\; 6 tickets for $5\; 12 tickets for $10\; or 25 tickets for $20.\n\nWhat's included in the goodie basket? Which artists are featured & where in DE are they based? \n\nBath & Body Care products from Alni Body Care (Ocean View\, DE)\n\nBeach Resin Cutting Board and Picture Frame from George Todd (Selbyville\, DE) \n\nHand Poured crystal candle from Cosmically Speaking (Fenwick Island\, DE)\n\nBeeswax Wraps from 6 Kings Farm (Gumboro\, DE) \n\nLocal Cheddar Dog Bones from Charlie's Treats Bakery (Magnolia\, DE)\n\nKristina's Cakery Hat & $10 gift card (Ocean View & Millville\, DE)\n\n(all aforementioned businesses are woman-owned\, except for George Todd\, however\, he lives around the block from the library\, so he is in fact the most local of all artists!  Thank you to all of these businesses for their donations to the library.)
X-ALT-DESC;FMTTYPE=text/html:<h1><span style="font-family:times new roman"><span style="font-size:18px"><u><strong>Alni Body Care June Raffle Benefitting Selbyville Public Library&nbsp\;</strong></u></span></span></h1>\n\n<div><span style="font-size:14px"><span style="font-family:times new roman">Visit Selbyville Public Library during the month of June to enter this awesome raffle!&nbsp\; The prize is a Farmers Market Goodie Basket full of locally-made artisan wares from local businesses and artisans.&nbsp\; Raffle tickets can be purchased at the circulation desk at the library and proceeds directly benefit Selbyville Public Library. 1 ticket for $1\; 6 tickets for $5\; 12 tickets for $10\; or 25 tickets for $20.<br />\n<em>What&#39\;s included in the goodie basket? Which artists are featured &amp\; where in DE are they based?&nbsp\;</em><br />\n<span style="font-size:16px"><strong>Bath &amp\; Body Care products from <a href="https://www.alnibodycare.com/">Alni Body Care</a> (Ocean View\, DE)<br />\nBeach Resin Cutting Board and Picture Frame from <a href="https://www.artbygeorgetodd.com/">George Todd</a> (Selbyville\, DE)&nbsp\;<br />\nHand Poured crystal candle from <a href="https://www.facebook.com/cosmicallyspeaking">Cosmically Speaking</a> (Fenwick Island\, DE)<br />\nBeeswax Wraps from <a href="https://www.facebook.com/The6kingsfarm">6 Kings Farm</a> (Gumboro\, DE)&nbsp\;<br />\nLocal Cheddar Dog Bones from <a href="https://www.charliestreatsbakery.com/">Charlie&#39\;s Treats Bakery</a> (Magnolia\, DE)<br />\n<a href="https://www.kristinascakery23.com/">Kristina&#39\;s Cakery</a> Hat &amp\; $10 gift card (Ocean View &amp\; Millville\, DE)</strong></span><br />\n<em>(all aforementioned businesses are woman-owned\, except for George Todd\, however\, he lives around the block from the library\, so he is in fact the most local of all artists!&nbsp\; Thank you to all of these businesses for their donations to the library.)</em></span></span></div>\n
LOCATION:Selbyville Public Library 11 Main & McCabe Streets Selbyvile\, DE 19975 (302) 436-8195
UID:e.2126.25909
SEQUENCE:3
DTSTAMP:20260421T005132Z
URL:http://business.thequietresorts.com/events/details/alni-body-care-june-raffle-benefitting-selbyville-public-library-25909
END:VEVENT

END:VCALENDAR
