BEGIN:VCALENDAR
VERSION:2.0
PRODID:-//ChamberMaster//Event Calendar 2.0//EN
METHOD:PUBLISH
X-PUBLISHED-TTL:P3D
REFRESH-INTERVAL:P3D
CALSCALE:GREGORIAN
BEGIN:VEVENT
DTSTART;VALUE=DATE:20230218
DTEND;VALUE=DATE:20230222
TRANSP:TRANSPARENT
X-MICROSOFT-CDO-ALLDAYEVENT:TRUE
SUMMARY:Alni Body Care FREE SHIPPING with code FREESHIP
DESCRIPTION:Alni Body Care Presidents Day Weekend Sale! \n\nFREE SHIPPING with code FREESHIP\n\nwww.alnibodycare.com\n\n(U.S. orders only.  ends 2/21 at midnight)
X-ALT-DESC;FMTTYPE=text/html:<span style="font-family:times new roman"><strong><span style="font-size:24px">Alni Body Care Presidents Day Weekend Sale!&nbsp\;</span></strong></span><br />\n<span style="font-size:20px"><span style="font-family:times new roman">FREE SHIPPING with code FREESHIP</span></span><br />\n<span style="font-family:times new roman"><a href="https://www.alnibodycare.com/"><span style="font-size:24px"><strong>www.alnibodycare.com</strong></span></a><br />\n<em><span style="font-size:16px">(U.S. orders only.&nbsp\; ends 2/21 at midnight)</span></em></span>
LOCATION:Online www.alnibodycare.com
UID:e.2126.25176
SEQUENCE:3
DTSTAMP:20260421T073747Z
URL:http://business.thequietresorts.com/events/details/alni-body-care-free-shipping-with-code-freeship-25176
END:VEVENT

END:VCALENDAR
