BEGIN:VCALENDAR
VERSION:2.0
PRODID:-//ChamberMaster//Event Calendar 2.0//EN
METHOD:PUBLISH
X-PUBLISHED-TTL:P3D
REFRESH-INTERVAL:P3D
CALSCALE:GREGORIAN
BEGIN:VEVENT
DTSTART;VALUE=DATE:20230224
DTEND;VALUE=DATE:20230228
TRANSP:TRANSPARENT
X-MICROSOFT-CDO-ALLDAYEVENT:TRUE
SUMMARY:Alni Body Care BOGO 20% Off Salve & Tincture Weekend Sale
DESCRIPTION:Alni Body Care Weekend Sale!\n\nAll Salves and Tinctures\, Buy One Get 20% Off the 2nd One\n\nUse code BOGO20OFF\nhttps://www.alnibodycare.com/
X-ALT-DESC;FMTTYPE=text/html:<h1><span style="font-family:times new roman">Alni Body Care Weekend Sale!</span><br />\n<span style="font-family:times new roman"><em>All Salves and Tinctures\, Buy One Get 20% Off the 2nd One</em></span></h1>\n\n<h2><span style="font-size:24px"><span style="font-family:times new roman">Use code <strong>BOGO20OFF</strong></span></span></h2>\n<span style="font-size:26px"><span style="font-family:times new roman"><a href="https://www.alnibodycare.com/">https://www.alnibodycare.com/</a></span></span>
LOCATION:
UID:e.2126.25184
SEQUENCE:3
DTSTAMP:20260421T074737Z
URL:http://business.thequietresorts.com/events/details/alni-body-care-bogo-20-off-salve-tincture-weekend-sale-25184
END:VEVENT

END:VCALENDAR
