BEGIN:VCALENDAR
VERSION:2.0
PRODID:-//ChamberMaster//Event Calendar 2.0//EN
METHOD:PUBLISH
X-PUBLISHED-TTL:P3D
REFRESH-INTERVAL:P3D
CALSCALE:GREGORIAN
BEGIN:VEVENT
DTSTART:20240601T113000Z
DTEND:20240601T140000Z
X-MICROSOFT-CDO-ALLDAYEVENT:FALSE
SUMMARY:All U Can Eat Pancake Breakfast with the Fenwick Island Lions Club
DESCRIPTION:Please join the Fenwick Island Lions Club & The Indian River HS Leo's Club for the 2024 All U Can Eat Breakfast on Saturday June 1\, 2024 from 7:30 am to 10:00 am at The Salted Rim.\n\n\n\nTickets are $14.00 for Adults and $6.00 for Children ages 3 to 10.\n\n\n\nThe menu consists of All U Can Eat Pancakes\, sausage\, scrambled eggs\, juice & coffee.
X-ALT-DESC;FMTTYPE=text/html:Please join the Fenwick Island Lions Club &amp\; The Indian River HS Leo&rsquo\;s Club for the 2024 All U Can Eat Breakfast on Saturday June 1\, 2024 from 7:30 am to 10:00 am at The Salted Rim.<br />\n<br />\nTickets are $14.00 for Adults and $6.00 for Children ages 3 to 10.<br />\n<br />\nThe menu consists of All U Can Eat Pancakes\, sausage\, scrambled eggs\, juice &amp\; coffee.
LOCATION:The Salted Rim 35553 Atlantic Ave. Millville\, DE 19967
UID:e.2126.29278
SEQUENCE:3
DTSTAMP:20260420T091539Z
URL:http://business.thequietresorts.com/events/details/all-u-can-eat-pancake-breakfast-with-the-fenwick-island-lions-club-29278
END:VEVENT

END:VCALENDAR
