BEGIN:VCALENDAR
VERSION:2.0
PRODID:-//ChamberMaster//Event Calendar 2.0//EN
METHOD:PUBLISH
X-PUBLISHED-TTL:P3D
REFRESH-INTERVAL:P3D
CALSCALE:GREGORIAN
BEGIN:VEVENT
DTSTART:20240531T230000Z
DTEND:20240601T003000Z
X-MICROSOFT-CDO-ALLDAYEVENT:FALSE
SUMMARY:All That Drag: Showtunes with Kadet Kelly at Dickens Parlour Theatre
DESCRIPTION:Embark on a journey of glamour\, glitter\, and grandeur at "All That Drag"   where the magic of showtunes meets the spectacle of drag in a celebration like no other. Get ready for a night of pure entertainment and join us as we make memories that will last a lifetime! Step into a world where the glitz and glamour of Broadway intertwine with the allure and artistry of drag! Get ready to be transported to a realm of pure entertainment at "All That Drag\," the ultimate showtunes themed drag show hosted by the fabulous Kadet Kelly! Our cast of talented drag performers will take you on a journey through beloved showtunes\, delivering unforgettable performances filled with passion\, charisma\, and pure showmanship.
X-ALT-DESC;FMTTYPE=text/html:<p><span style="color:rgb(0\, 0\, 0)\; font-family:tahoma\,geneva\,sans-serif\; font-size:14px">Embark on a journey of glamour\, glitter\, and grandeur at &ldquo\;All That Drag&rdquo\; &ndash\; where the magic of showtunes meets the spectacle of drag in a celebration like no other. Get ready for a night of pure entertainment and join us as we make memories that will last a lifetime! Step into a world where the glitz and glamour of Broadway intertwine with the allure and artistry of drag! Get ready to be transported to a realm of pure entertainment at &ldquo\;All That Drag\,&rdquo\; the ultimate showtunes themed drag show hosted by the fabulous Kadet Kelly! Our cast of talented drag performers will take you on a journey through beloved showtunes\, delivering unforgettable performances filled with passion\, charisma\, and pure showmanship.</span></p>\n\n<p>&nbsp\;</p>\n
LOCATION:Dickens Parlour Theatre 31810 Good Earth Lane Ocean View\, DE 19970
UID:e.2126.29933
SEQUENCE:3
DTSTAMP:20260420T043815Z
URL:http://business.thequietresorts.com/events/details/all-that-drag-showtunes-with-kadet-kelly-at-dickens-parlour-theatre-29933
END:VEVENT

END:VCALENDAR
