BEGIN:VCALENDAR
VERSION:2.0
PRODID:-//ChamberMaster//Event Calendar 2.0//EN
METHOD:PUBLISH
X-PUBLISHED-TTL:P3D
REFRESH-INTERVAL:P3D
CALSCALE:GREGORIAN
BEGIN:VEVENT
DTSTART:20200313T213000Z
DTEND:20200313T233000Z
X-MICROSOFT-CDO-ALLDAYEVENT:FALSE
SUMMARY:All in the Family 20/20/20
DESCRIPTION:PARENTS Do you want your children to know more about God but don't know where to begin? We're here to help. * Learn how to share Bible stories with your kids that are fun *Meet other families who share the same goals *Have dinner on us - it's FREE. It's all FREE!
X-ALT-DESC;FMTTYPE=text/html:<span style="font-size: 14px\;"><span style="font-family: arial\;">PARENTS Do you want your children to know more about God but don&#39\;t know where to begin? We&#39\;re here to help. * Learn how to share Bible stories with your kids that are fun *Meet other families who share the same goals *Have dinner on us - it&#39\;s FREE. It&#39\;s all FREE!</span></span>
LOCATION:Mariners Bethel UMC 81 Central Ave Ocean View\, DE 19970
UID:e.2126.20272
SEQUENCE:3
DTSTAMP:20260425T225511Z
URL:http://business.thequietresorts.com/events/details/all-in-the-family-20-20-20-20272
END:VEVENT

END:VCALENDAR
