BEGIN:VCALENDAR
VERSION:2.0
PRODID:-//ChamberMaster//Event Calendar 2.0//EN
METHOD:PUBLISH
X-PUBLISHED-TTL:P3D
REFRESH-INTERVAL:P3D
CALSCALE:GREGORIAN
BEGIN:VEVENT
DTSTART:20231210T180000Z
DTEND:20231210T200000Z
X-MICROSOFT-CDO-ALLDAYEVENT:FALSE
SUMMARY:Addy Sea Toys for Tots Holiday Open House
DESCRIPTION:Come tour the Addy Sea Historic Oceanfront Inn and Guest House decorated for the Holidays while supporting Toys for Tots!  Enjoy refreshments\, live music\, and festive fun.  One toy donation per adult for admission.
X-ALT-DESC;FMTTYPE=text/html:Come tour the Addy Sea Historic Oceanfront Inn and Guest House decorated for the Holidays while supporting Toys for Tots!&nbsp\; Enjoy refreshments\, live music\, and festive fun.&nbsp\; One toy donation per adult for admission.&nbsp\;
LOCATION:Addy Sea 99 Ocean View Parkway Bethany Beach\, DE 19930
UID:e.2126.27150
SEQUENCE:3
DTSTAMP:20260420T152406Z
URL:http://business.thequietresorts.com/events/details/addy-sea-toys-for-tots-holiday-open-house-27150
END:VEVENT

END:VCALENDAR
