BEGIN:VCALENDAR
VERSION:2.0
PRODID:-//ChamberMaster//Event Calendar 2.0//EN
METHOD:PUBLISH
X-PUBLISHED-TTL:P3D
REFRESH-INTERVAL:P3D
CALSCALE:GREGORIAN
BEGIN:VEVENT
DTSTART:20240531T230000Z
DTEND:20240601T020000Z
X-MICROSOFT-CDO-ALLDAYEVENT:FALSE
SUMMARY:ADA Twist\, Scientist & Friends at Freeman Arts Pavillion
DESCRIPTION:Admission: Free\n\nTheaterWorksUSA is set to present its family musical\, Ada Twist\, Scientist & Friends based on the books "Rosie Revere\, Engineer\;" "Iggy Peck\, Architect\;" and "Ada Twist Scientist\," by Andrea Beaty.\n\nMs. Greer's classroom includes three inquisitive out-of-the-box thinkers. Rosie Revere has big dreams\, Iggy Peck has a relentless passion for architecture\, and Ada Twist's curiosity can drive her teacher crazy. On a field trip gone awry\, they are faced with the ultimate test of their problem-solving skills that can only be conquered with teamwork. Recommended for ages 4-9.\n\nAda Twist\, Scientist & Friends is written by Lauren Gunderson\, the most produced living playwright in the U.S. (book)\, Bree Lowdermilk (music)\, and Kait Kerrigan (lyrics)\, and based on the book series by Andrea Beaty and illustrated by David Roberts. The original creative team includes direction by Peter Flynn\, choreography by Marcos Santana (Broadway: Rocky\, Associate Choreographer)\, orchestrations by Lloyd Kikoler\, original music direction by Dan Garmon\; set design by Anne Mundell\, and costume design by Jenifer Caprio.
X-ALT-DESC;FMTTYPE=text/html:<p><strong>Admission: Free</strong></p>\n\n<p>TheaterWorksUSA is set to present its&nbsp\;family musical\, Ada Twist\, Scientist &amp\; Friends based on the books &quot\;Rosie Revere\, Engineer\;&quot\; &quot\;Iggy Peck\, Architect\;&quot\; and &quot\;Ada Twist Scientist\,&quot\;&nbsp\;by Andrea Beaty.</p>\n\n<p>Ms. Greer&#39\;s classroom includes three inquisitive out-of-the-box thinkers. Rosie Revere has big dreams\, Iggy Peck has a relentless passion for architecture\, and Ada Twist&#39\;s curiosity can drive her teacher crazy. On a field trip gone awry\, they are faced with the ultimate test of their problem-solving skills that can only be conquered with teamwork. Recommended for ages 4-9.</p>\n\n<p><em>Ada Twist\, Scientist &amp\; Friends&nbsp\;</em>is written by Lauren Gunderson\, the most produced living playwright in the U.S. (book)\, Bree Lowdermilk (music)\, and Kait Kerrigan (lyrics)\, and based on the book series by Andrea Beaty and illustrated by David Roberts. The original creative team includes direction by Peter Flynn\, choreography by Marcos Santana (Broadway:&nbsp\;<em>Rocky\, Associate Choreographer)</em>\, orchestrations by Lloyd Kikoler\, original music direction by Dan Garmon\; set design by Anne Mundell\, and costume design by Jenifer Caprio.</p>\n
LOCATION:Freeman Arts Pavilion 31806 Lake View Dr. Selbyville\, DE 19975
UID:e.2126.28445
SEQUENCE:3
DTSTAMP:20260420T042150Z
URL:http://business.thequietresorts.com/events/details/ada-twist-scientist-friends-at-freeman-arts-pavillion-28445
END:VEVENT

END:VCALENDAR
