BEGIN:VCALENDAR
VERSION:2.0
PRODID:-//ChamberMaster//Event Calendar 2.0//EN
METHOD:PUBLISH
X-PUBLISHED-TTL:P3D
REFRESH-INTERVAL:P3D
CALSCALE:GREGORIAN
BEGIN:VEVENT
DTSTART:20220903T140000Z
DTEND:20220905T190000Z
X-MICROSOFT-CDO-ALLDAYEVENT:FALSE
SUMMARY:Accent Design Center Labor Day Weekend Sale!
DESCRIPTION:Accent Design Center\n\nLabor Day Weekend Sale!\n\nLocation has closed\, must sell off remaining inventory\n\nONLY CASH OR CHECK
X-ALT-DESC;FMTTYPE=text/html:Accent Design Center<br />\nLabor Day Weekend Sale!<br />\nLocation has closed\, must sell off remaining inventory<br />\nONLY CASH OR CHECK
LOCATION:Accent Design Center 29 H Atlantic Ave Ocean View\, DE 19970 INSIDE THE LAW OFFICE
UID:e.2126.24164
SEQUENCE:3
DTSTAMP:20260421T173155Z
URL:http://business.thequietresorts.com/events/details/accent-design-center-labor-day-weekend-sale-24164
END:VEVENT

END:VCALENDAR
