BEGIN:VCALENDAR
VERSION:2.0
PRODID:-//ChamberMaster//Event Calendar 2.0//EN
METHOD:PUBLISH
X-PUBLISHED-TTL:P3D
REFRESH-INTERVAL:P3D
CALSCALE:GREGORIAN
BEGIN:VEVENT
DTSTART:20240525T130000Z
DTEND:20240525T190000Z
X-MICROSOFT-CDO-ALLDAYEVENT:FALSE
SUMMARY:AARP Annual Artisans Craft Fair
DESCRIPTION:Artisans Fair Craft Show In Ocean View on May 25th\n\n\n\nThe annual Artisans Fair\, featuring handcrafted art objects\, will be from 9 a.m. to 3 p.m. Saturday\, May\n\n25th at Lord Baltimore Elementary School\, Atlantic Ave. on Route 26 in Ocean View\, DE.\n\n\n\nArtisans will exhibit both indoors and outdoors\, showing textiles\, metalwork\, fine art painting\, glass\, jewelry\, pottery\, photography\, woodworking\, sculpture and home d cor. An outside Farmers Market will offer produce and specialty foods from 9 a.m. to 1 p.m.\n\n\n\nOther attractions are a raffle on an array of art items donated by the exhibitors\, a 50-50 cash raffle\, a golf package raffle from Bear Trap Dunes\, baked goods sale\, Cucina Veloce food truck and music by the Wave Dragons Band.\n\n\n\nFree admission and free parking at the venue and overflow remote parking with free van service.\n\n\n\nProceeds benefit the college scholarship fund of South Coastal Delaware AARP.
X-ALT-DESC;FMTTYPE=text/html:<span style="font-size:18px\;"><strong>Artisans Fair Craft Show In Ocean View on May 25th</strong></span><br />\n<br />\nThe annual Artisans Fair\, featuring handcrafted art objects\, will be from 9 a.m. to 3 p.m. Saturday\, May<br />\n25th at Lord Baltimore Elementary School\, Atlantic Ave. on Route 26 in Ocean View\, DE.<br />\n<br />\nArtisans will exhibit both indoors and outdoors\, showing textiles\, metalwork\, fine art painting\, glass\, jewelry\, pottery\, photography\, woodworking\, sculpture and home d&eacute\;cor. An outside Farmers Market will offer produce and specialty foods from 9 a.m. to 1 p.m.<br />\n<br />\nOther attractions are a raffle on an array of art items donated by the exhibitors\, a 50-50 cash raffle\, a golf package raffle from Bear Trap Dunes\, baked goods sale\, Cucina Veloce food truck and music by the Wave Dragons Band.<br />\n<br />\nFree admission and free parking at the venue and overflow remote parking with free van service.<br />\n<br />\nProceeds benefit the college scholarship fund of South Coastal Delaware AARP.
LOCATION:Lord Baltimore Elementary School 120 Atlantic Ave. Ocean View\, DE 19970
UID:e.2126.29219
SEQUENCE:3
DTSTAMP:20260420T041930Z
URL:http://business.thequietresorts.com/events/details/aarp-annual-artisans-craft-fair-29219
END:VEVENT

END:VCALENDAR
