BEGIN:VCALENDAR
VERSION:2.0
PRODID:-//ChamberMaster//Event Calendar 2.0//EN
METHOD:PUBLISH
X-PUBLISHED-TTL:P3D
REFRESH-INTERVAL:P3D
CALSCALE:GREGORIAN
BEGIN:VEVENT
DTSTART:20231026T210000Z
DTEND:20231027T000000Z
X-MICROSOFT-CDO-ALLDAYEVENT:FALSE
SUMMARY:A Night in Italy at Delmarva Design Center
DESCRIPTION:Join us for A Night In Italy! Italian pasta\, bruschetta\, and desserts prepared by Subzero\, Wolf\, and Cove's Chef Sean. Enjoy Italian beer\, wine\, and a Limoncello station. There will be raffles and parting gifts  \n\n\n\nRSVP by October 12th.
X-ALT-DESC;FMTTYPE=text/html:<span style="color: rgba(51\, 51\, 51\, 0.68)\; font-family: CTSans\, sans-serif\; font-size: 14px\; white-space-collapse: preserve\;">Join us for A Night In Italy! Italian pasta\, bruschetta\, and desserts prepared by Subzero\, Wolf\, and Cove&#39\;s Chef Sean. Enjoy Italian beer\, wine\, and a Limoncello station. There will be raffles and parting gifts &#127873\;<br />\n<br />\n<a href="https://lp.constantcontactpages.com/ev/reg/5c3yej4?source_id=d9293133-1031-47bf-ba5a-cd3f329c9661&amp\;source_type=em&amp\;c=zrewGC229dLIcfP9gZ7jE9AveTIszzIf9Fbeo348DS2f_bwLrw3a6w==">RSVP</a> by October 12th.</span>
LOCATION:Delmarva Design Center 38507 DuPont Blvd. Selbyville\, DE 19975
UID:e.2126.26993
SEQUENCE:3
DTSTAMP:20260420T183135Z
URL:http://business.thequietresorts.com/events/details/a-night-in-italy-at-delmarva-design-center-26993
END:VEVENT

END:VCALENDAR
