BEGIN:VCALENDAR
VERSION:2.0
PRODID:-//ChamberMaster//Event Calendar 2.0//EN
METHOD:PUBLISH
X-PUBLISHED-TTL:P3D
REFRESH-INTERVAL:P3D
CALSCALE:GREGORIAN
BEGIN:VEVENT
DTSTART:20240322T230000Z
DTEND:20240323T000000Z
X-MICROSOFT-CDO-ALLDAYEVENT:FALSE
SUMMARY:A Magical Evening with Kevin Bethea at Dickens Parlour Theatre
DESCRIPTION:Kevin Bethea is bringing his award-winning magic act to the Dickens Parlour Theatre stage! Over his illustrious 25-year career\, Kevin has been the recipient of numerous awards and honors\, including Close Up Magician of the Year by the I.A.B.M.A. Kevin is one of the most sought-after corporate entertainers in the country. You may have seen him on CN8   The Comcast Network on the "Your Morning" show. He was also a regular headliner at the Dickens Parlour Theatre located at the Tropicana Casino & Resort in Atlantic City and Monday Night Magic: New York's Longest Running Off-Broadway Magic Show. Kevin is an innovator in magic and has had several of his original magic effects published in magic journals such as Apocalypse and Labyrinth.
X-ALT-DESC;FMTTYPE=text/html:<div><span style="font-size:14px"><span style="font-family:arial">Kevin Bethea is bringing his award-winning magic act to the Dickens Parlour Theatre stage! Over his illustrious 25-year career\, Kevin has been the recipient of numerous awards and honors\, including Close Up Magician of the Year by the I.A.B.M.A. Kevin is one of the most sought-after corporate entertainers in the country. You may have seen him on CN8 &ndash\; The Comcast Network on the &ldquo\;Your Morning&rdquo\; show. He was also a regular headliner at the Dickens Parlour Theatre located at the Tropicana Casino &amp\; Resort in Atlantic City and Monday Night Magic: New York&rsquo\;s Longest Running Off-Broadway Magic Show. Kevin is an innovator in magic and has had several of his original magic effects published in magic journals such as Apocalypse and Labyrinth.</span></span></div>\n
LOCATION:Dickens Parlour Theatre 31810 Good Earth Lane Ocean View\, DE 19970
UID:e.2126.28495
SEQUENCE:3
DTSTAMP:20260420T074117Z
URL:http://business.thequietresorts.com/events/details/a-magical-evening-with-kevin-bethea-at-dickens-parlour-theatre-28495
END:VEVENT

END:VCALENDAR
