BEGIN:VCALENDAR
VERSION:2.0
PRODID:-//ChamberMaster//Event Calendar 2.0//EN
METHOD:PUBLISH
X-PUBLISHED-TTL:P3D
REFRESH-INTERVAL:P3D
CALSCALE:GREGORIAN
BEGIN:VEVENT
DTSTART:20231028T210000Z
DTEND:20231029T010000Z
X-MICROSOFT-CDO-ALLDAYEVENT:FALSE
SUMMARY:A Halloween Filmfest Event: The Rocky Horror Picture Show
DESCRIPTION:Come experience a gory and haunted Halloween Filmfest event at the Dicken's Parlour Theatre. Experience includes a haunted buffet dinner (includes gratuity)\, costume contest\, Rocky Horror Movie kit & the full film showing. Cash bar. Tickets are $99/person.\n\nThis show is PG13 rated. Ages 13-18 require an adult to attend with them. Ages 13+ only\, no exceptions.\n\nSHOWTIMES FRIDAY & SATURDAY 5 & 9 PM SUNDAY 5 PM\n\nCOPY THE LINK BELOW TO OPEN RESERVATIONS FOR YOUR HORRIFYING SEAT\n\nFRI-SAT SHOWS https://www.exploretock.com/dickens-parlour-dining/event/407053?date=2023-10-28&size=1&time=10%3A00\n\nSUN https://www.exploretock.com/dickens-parlour-dining/event/407058/rocky-horror-picture-show-sunday
X-ALT-DESC;FMTTYPE=text/html:<p>Come experience a gory and haunted Halloween Filmfest event at the Dicken&rsquo\;s Parlour Theatre. Experience includes a haunted buffet dinner (includes gratuity)\, costume contest\, Rocky Horror Movie kit &amp\; the full film showing. Cash bar. Tickets are $99/person.</p>\n\n<p>This show is&nbsp\;PG13&nbsp\;rated. Ages 13-18 require an adult to attend with them. Ages 13+ only\, no exceptions.</p>\n\n<p><strong>SHOWTIMES FRIDAY&nbsp\;&amp\;&nbsp\;SATURDAY 5&nbsp\;&amp\; 9&nbsp\;PM SUNDAY 5 PM</strong></p>\n\n<p>COPY THE LINK BELOW TO OPEN RESERVATIONS FOR YOUR HORRIFYING SEAT</p>\n\n<p><strong>FRI-SAT&nbsp\;SHOWS</strong>&nbsp\;https://www.exploretock.com/dickens-parlour-dining/event/407053?date=2023-10-28&amp\;size=1&amp\;time=10%3A00</p>\n\n<p><strong>SUN</strong>&nbsp\;https://www.exploretock.com/dickens-parlour-dining/event/407058/rocky-horror-picture-show-sunday</p>\n
LOCATION:Dickens Parlour Theatre 31810 Good Earth Lane Ocean View\, DE 19970
UID:e.2126.26622
SEQUENCE:3
DTSTAMP:20260420T183758Z
URL:http://business.thequietresorts.com/events/details/a-halloween-filmfest-event-the-rocky-horror-picture-show-10-28-2023-26622
END:VEVENT

END:VCALENDAR
