BEGIN:VCALENDAR
VERSION:2.0
PRODID:-//ChamberMaster//Event Calendar 2.0//EN
METHOD:PUBLISH
X-PUBLISHED-TTL:P3D
REFRESH-INTERVAL:P3D
CALSCALE:GREGORIAN
BEGIN:VEVENT
DTSTART;VALUE=DATE:20230315
DTEND;VALUE=DATE:20230316
TRANSP:TRANSPARENT
X-MICROSOFT-CDO-ALLDAYEVENT:TRUE
SUMMARY:A Culinary History of Southern Delaware
DESCRIPTION:Discover the history behind local ingredients and cooking techniques from the time of the Nanticoke Indians through the foods still beloved today including scrapple\, beach plums\, and muskrat.
X-ALT-DESC;FMTTYPE=text/html:Discover the history behind local ingredients and cooking techniques from the time of the Nanticoke Indians through the foods still beloved today including scrapple\, beach plums\, and muskrat.
LOCATION:Bethany Beach Town Hall\, 214 Garfield Parkway
UID:e.2126.25224
SEQUENCE:3
DTSTAMP:20260421T055840Z
URL:http://business.thequietresorts.com/events/details/a-culinary-history-of-southern-delaware-25224
END:VEVENT

END:VCALENDAR
