BEGIN:VCALENDAR
VERSION:2.0
PRODID:-//ChamberMaster//Event Calendar 2.0//EN
METHOD:PUBLISH
X-PUBLISHED-TTL:P3D
REFRESH-INTERVAL:P3D
CALSCALE:GREGORIAN
BEGIN:VEVENT
DTSTART:20230909T230000Z
DTEND:20230910T020000Z
X-MICROSOFT-CDO-ALLDAYEVENT:FALSE
SUMMARY:A Celebration of Marvin Hamlisch & His Music presented by the Mid-Atlantic Symphony Orchestra
DESCRIPTION:TICKETS ARE $15\, CHILDREN 12 AND UNDER ARE FREE\n\nJoin us for an unforgettable evening of music as the Mid-Atlantic Symphony Orchestra presents "A Celebration of Marvin Hamlisch & His Music!"\n\nEnjoy the captivating sounds of one of the most celebrated composers of our time\, as the orchestra performs a selection of his most iconic works from stage and screen. From "A Chorus Line" to "The Way We Were\," Marvin Hamlisch's music has captured the hearts of audiences around the world.\n\nExperience the magic of his timeless melodies brought to life by the Mid-Atlantic Symphony Orchestra\, under the baton of J. Ernest Green\, who worked hand and hand with Marvin. Don't miss this opportunity to be swept away by the brilliance and beauty of Marvin Hamlisch's music.
X-ALT-DESC;FMTTYPE=text/html:<h6>TICKETS ARE $15\, CHILDREN 12 AND UNDER ARE FREE</h6>\n\n<p>Join us for an unforgettable evening of music as the Mid-Atlantic Symphony Orchestra presents &quot\;A Celebration of Marvin Hamlisch &amp\; His Music!&quot\;</p>\n\n<p>Enjoy the captivating sounds of one of the most celebrated composers of our time\, as the orchestra performs a selection of his most iconic works from stage and screen. From &quot\;A Chorus Line&quot\; to &quot\;The Way We Were\,&quot\; Marvin Hamlisch&#39\;s music has captured the hearts of audiences around the world.</p>\n\n<p>Experience the magic of his timeless melodies brought to life by the Mid-Atlantic Symphony Orchestra\, under the baton of J. Ernest Green\, who worked hand and hand with Marvin.&nbsp\;Don&#39\;t miss this opportunity to be swept away by the brilliance and beauty of Marvin Hamlisch&#39\;s music.</p>\n
LOCATION:Freeman Arts Pavilion a program of the Joshua M. Freeman Foundation is a champion of the arts on Delmarva\, providing diverse arts performances as well as arts access programs for local schools and the community at large. From June-September the Freeman Arts Pavilion is an open-air performance space showcasing music\, dance\, comedy\, theater\, children's programs\, and free events.
UID:e.2126.26136
SEQUENCE:3
DTSTAMP:20260420T195941Z
URL:http://business.thequietresorts.com/events/details/a-celebration-of-marvin-hamlisch-his-music-presented-by-the-mid-atlantic-symphony-orchestra-26136
END:VEVENT

END:VCALENDAR
