BEGIN:VCALENDAR
VERSION:2.0
PRODID:-//ChamberMaster//Event Calendar 2.0//EN
METHOD:PUBLISH
X-PUBLISHED-TTL:P3D
REFRESH-INTERVAL:P3D
CALSCALE:GREGORIAN
BEGIN:VEVENT
DTSTART:20230708T230000Z
DTEND:20230709T000000Z
X-MICROSOFT-CDO-ALLDAYEVENT:FALSE
SUMMARY:A Brit of Magic
DESCRIPTION:Amazing magic\, hilarious comedy\, and a delectable insight into the life of two very un-ordinary people. They were described as 'Aliens of extraordinary ability' by the US government\, and they bring their distinctly British sense of humor to every show. Keith Fields is a world champion magician and headline comedian\; Lady Sarah is a real English lady with a penchant for shoes\; she does her best to keep everything in some semblance of control! And if everything turns to custard\, they are British\, so they will make a cup of tea\, and we can all have some crumpets!
X-ALT-DESC;FMTTYPE=text/html:<span style="color:rgb(0\, 0\, 0)\; font-family:tahoma\,geneva\,sans-serif\; font-size:14px">Amazing magic\, hilarious comedy\, and a delectable insight into the life of two very un-ordinary people. They were described as &lsquo\;Aliens of extraordinary ability&rsquo\; by the US government\, and they bring their distinctly British sense of humor to every show. Keith Fields is a world champion magician and headline comedian\; Lady Sarah is a real English lady with a penchant for shoes\; she does her best to keep everything in some semblance of control! And if everything turns to custard\, they are British\, so they will make a cup of tea\, and we can all have some crumpets!</span>
LOCATION:Dickens Parlour Theatre 31810 Good Earth Lane Ocean View\, DE 19970
UID:e.2126.26021
SEQUENCE:3
DTSTAMP:20260420T232522Z
URL:http://business.thequietresorts.com/events/details/a-brit-of-magic-07-08-2023-26021
END:VEVENT

END:VCALENDAR
